Workbook

Sheet Sistema
A1: Balance Bancos Públicos
A2: En millones de dólares
B4: BNF | I4: BEV | P4: CFN | W4: BEDE | AD4: IECE
B5: 2008 | C5: 2009 | D5: 2010 | E5: 2011 | F5: 2012 | G5: 2013 | I5: 2008 | J5: 2009 | K5: 2010 | L5: 2011 | M5: 2012 | N5: 2013 | P5: 2008 | Q5: 2009 | R5: 2010 | S5: 2011 | T5: 2012 | U5: 2013 | W5: 2008 | X5: 2009 | Y5: 2010 | Z5: 2011 | AA5: 2012 | AB5: 2013 | AD5: 2007 | AE5: 2008 | AF5: 2009 | AG5: 2010 | AH5: 2011 | AI5: 2012
A6: 1 ACTIVO | B6: 832.26041 | C6: 1120.9801 | D6: 1297.2693 | E6: 1342.3954 | F6: 1775.6159 | G6: 1776.661 | I6: =+BPub!G6/1000000 -> 138.80335 | J6: =+BPub!L6/1000000 -> 196.99797 | K6: =+BPub!Q6/1000000 -> 299.21908 | L6: =+BPub!W6/1000000 -> 295.21733 | M6: =+BPub!AD6/1000000 -> 267.69246 | N6: 179.41311 | P6: =+BPub!I6/1000000 -> 658.50138 | Q6: =+BPub!N6/1000000 -> 1229.7828 | R6: =+BPub!S6/1000000 -> 1344.1075 | S6: =+BPub!X6/1000000 -> 1513.0418 | T6: =+BPub!AB6/1000000 -> 2599.1209 | U6: 3378.1254 | W6: =+BPub!H6/1000000 -> 559.45546 | X6: =+BPub!M6/1000000 -> 835.41879 | Y6: =+BPub!R6/1000000 -> 1137.8176 | Z6: =+BPub!V6/1000000 -> 1239.0403 | AA6: =+BPub!AC6/1000000 -> 1701.6739 | AB6: 1838.8758 | AD6: 115.02324 | AE6: 153.19102 | AF6: 188.66223 | AG6: 251.88978 | AH6: 330.65648 | AI6: 422.36661
A7: 11 FONDOS DISPONIBLES | B7: 99.131064 | C7: 194.41334 | D7: 113.63662 | E7: 176.42869 | F7: 91.807389 | G7: 142.24625 | I7: =+BPub!G7/1000000 -> 8.0186907 | J7: =+BPub!L7/1000000 -> 56.530869 | K7: =+BPub!Q7/1000000 -> 127.92527 | L7: =+BPub!W7/1000000 -> 45.419744 | M7: =+BPub!AD7/1000000 -> 40.465403 | N7: 26.115063 | P7: =+BPub!I7/1000000 -> 48.055228 | Q7: =+BPub!N7/1000000 -> 139.38295 | R7: =+BPub!S7/1000000 -> 25.877651 | S7: =+BPub!X7/1000000 -> 71.867732 | T7: =+BPub!AB7/1000000 -> 60.972364 | U7: 54.957606 | W7: =+BPub!H7/1000000 -> 105.1453 | X7: =+BPub!M7/1000000 -> 90.189407 | Y7: =+BPub!R7/1000000 -> 76.069921 | Z7: =+BPub!V7/1000000 -> 131.34444 | AA7: =+BPub!AC7/1000000 -> 163.64638 | AB7: 236.79661 | AD7: 21.919966 | AE7: 17.390441 | AF7: 15.146017 | AG7: 39.86942 | AH7: 67.5996 | AI7: 131.83128
A8: 1101 Caja | B8: 11.222411 | C8: 13.16452 | D8: 13.736825 | E8: 13.810986 | F8: 17.498699 | G8: 23.440856 | I8: =+BPub!G8/1000000 -> 0.04533843 | J8: =+BPub!L8/1000000 -> 0.08220658 | K8: =+BPub!Q8/1000000 -> 0.10135539 | L8: =+BPub!W8/1000000 -> 0.10991382 | M8: =+BPub!AD8/1000000 -> 0.10558561 | N8: 0.09868558 | P8: =+BPub!I8/1000000 -> 0.03816074 | Q8: =+BPub!N8/1000000 -> 0.04860836 | R8: =+BPub!S8/1000000 -> 0.03303522 | S8: =+BPub!X8/1000000 -> 0.03984612 | T8: =+BPub!AB8/1000000 -> 0.02919863 | U8: 0.0001 | W8: =+BPub!H8/1000000 -> 0.003431 | X8: =+BPub!M8/1000000 -> 0.003001 | Y8: =+BPub!R8/1000000 -> 0.00390553 | Z8: =+BPub!V8/1000000 -> 0.00333388 | AA8: =+BPub!AC8/1000000 -> 0.0027 | AB8: 0.00105 | AD8: 0 | AE8: 0 | AF8: 0 | AG8: 0 | AH8: 0 | AI8: 0
A9: 110105 Efectivo | B9: 11.219007 | C9: 13.160597 | D9: 13.732681 | E9: 13.806934 | F9: 17.488997 | G9: 23.431953 | I9: =+BPub!G9/1000000 -> 0.04277843 | J9: =+BPub!L9/1000000 -> 0.07996658 | K9: =+BPub!Q9/1000000 -> 0.09872039 | L9: =+BPub!W9/1000000 -> 0.10702812 | M9: =+BPub!AD9/1000000 -> 0.10431461 | N9: 0.09738558 | P9: =+BPub!I9/1000000 -> 0.00206074 | Q9: =+BPub!N9/1000000 -> 0.01160836 | R9: =+BPub!S9/1000000 -> 0.00938529 | S9: =+BPub!X9/1000000 -> 0.01749612 | T9: =+BPub!AB9/1000000 -> 0.02177863 | U9: 0 | W9: =+BPub!H9/1000000 -> 3.1e-05 | X9: =+BPub!M9/1000000 -> 1e-06 | Y9: =+BPub!R9/1000000 -> 0.00130553 | Z9: =+BPub!V9/1000000 -> 0.00073388 | AA9: =+BPub!AC9/1000000 -> 0.0001 | AB9: 0.00015 | AD9: 0 | AE9: 0 | AF9: 0 | AG9: 0 | AH9: 0 | AI9: 0
A10: 110110 Caja chica | B10: 0.00340409 | C10: 0.0039221 | D10: 0.00414392 | E10: 0.0040517 | F10: 0.00970175 | G10: 0.00890301 | I10: =+BPub!G10/1000000 -> 0.00256 | J10: =+BPub!L10/1000000 -> 0.00224 | K10: =+BPub!Q10/1000000 -> 0.002635 | L10: =+BPub!W10/1000000 -> 0.0028857 | M10: =+BPub!AD10/1000000 -> 0.001271 | N10: 0.0013 | P10: =+BPub!I10/1000000 -> 0.0361 | Q10: =+BPub!N10/1000000 -> 0.037 | R10: =+BPub!S10/1000000 -> 0.02364993 | S10: =+BPub!X10/1000000 -> 0.02235 | T10: =+BPub!AB10/1000000 -> 0.00742 | U10: 0.0001 | W10: =+BPub!H10/1000000 -> 0.0034 | X10: =+BPub!M10/1000000 -> 0.003 | Y10: =+BPub!R10/1000000 -> 0.0026 | Z10: =+BPub!V10/1000000 -> 0.0026 | AA10: =+BPub!AC10/1000000 -> 0.0026 | AB10: 0.0009 | AD10: 0 | AE10: 0 | AF10: 0 | AG10: 0 | AH10: 0 | AI10: 0
A11: 1102 Depósitos para encaje | B11: 23.666865 | C11: 27.205088 | D11: 16.026298 | E11: 82.292379 | F11: 70.298499 | G11: 81.559136 | I11: =+BPub!G11/1000000 -> 7.7924381 | J11: =+BPub!L11/1000000 -> 56.430467 | K11: =+BPub!Q11/1000000 -> 127.77537 | L11: =+BPub!W11/1000000 -> 45.076035 | M11: =+BPub!AD11/1000000 -> 40.315629 | N11: 26.010501 | P11: =+BPub!I11/1000000 -> 0 | Q11: =+BPub!N11/1000000 -> 20 | R11: =+BPub!S11/1000000 -> 4.7000361 | S11: =+BPub!X11/1000000 -> 0.10003609 | T11: =+BPub!AB11/1000000 -> 0.01003609 | U11: 0.01003609 | W11: =+BPub!H11/1000000 -> 0.85 | X11: =+BPub!M11/1000000 -> 9.3665997 | Y11: =+BPub!R11/1000000 -> 11.318772 | Z11: =+BPub!V11/1000000 -> 4.9691373 | AA11: =+BPub!AC11/1000000 -> 0 | AB11: 0 | AD11: 0 | AE11: 0 | AF11: 0 | AG11: 0 | AH11: 0 | AI11: 0
A12: 110205 Banco Central del Ecuador | B12: 23.666865 | C12: 27.205088 | D12: 16.026298 | E12: 82.292379 | F12: 70.298499 | G12: 81.559136 | I12: =+BPub!G12/1000000 -> 6.939527 | J12: =+BPub!L12/1000000 -> 55.783451 | K12: =+BPub!Q12/1000000 -> 126.74089 | L12: =+BPub!W12/1000000 -> 43.452982 | M12: =+BPub!AD12/1000000 -> 39.142265 | N12: 24.419549 | P12: =+BPub!I12/1000000 -> 0 | Q12: =+BPub!N12/1000000 -> 20 | R12: =+BPub!S12/1000000 -> 4.7000361 | S12: =+BPub!X12/1000000 -> 0.10003609 | T12: =+BPub!AB12/1000000 -> 0.01003609 | U12: 0.01003609 | W12: =+BPub!H12/1000000 -> 0.85 | X12: =+BPub!M12/1000000 -> 9.3665997 | Y12: =+BPub!R12/1000000 -> 11.318772 | Z12: =+BPub!V12/1000000 -> 4.9691373 | AA12: =+BPub!AC12/1000000 -> 0 | AB12: 0 | AD12: 0 | AE12: 0 | AF12: 0 | AG12: 0 | AH12: 0 | AI12: 0
A13: 110210 Banco Nacional de Fomento | B13: 0 | C13: 0 | D13: 0 | E13: 0 | F13: 0 | G13: 0 | I13: =+BPub!G13/1000000 -> 0.85291109 | J13: =+BPub!L13/1000000 -> 0.64701629 | K13: =+BPub!Q13/1000000 -> 1.0344818 | L13: =+BPub!W13/1000000 -> 1.6230533 | M13: =+BPub!AD13/1000000 -> 1.1733634 | N13: 1.5909522 | P13: =+BPub!I13/1000000 -> 0 | Q13: =+BPub!N13/1000000 -> 0 | R13: =+BPub!S13/1000000 -> 0 | S13: =+BPub!X13/1000000 -> 0 | T13: =+BPub!AB13/1000000 -> 0 | U13: 0 | W13: =+BPub!H13/1000000 -> 0 | X13: =+BPub!M13/1000000 -> 0 | Y13: =+BPub!R13/1000000 -> 0 | Z13: =+BPub!V13/1000000 -> 0 | AA13: =+BPub!AC13/1000000 -> 0 | AB13: 0 | AD13: 0 | AE13: 0 | AF13: 0 | AG13: 0 | AH13: 0 | AI13: 0
A14: 110215 Bancos locales | B14: 0 | C14: 0 | D14: 0 | E14: 0 | F14: 0 | G14: 0 | I14: =+BPub!G14/1000000 -> 0 | J14: =+BPub!L14/1000000 -> 0 | K14: =+BPub!Q14/1000000 -> 0 | L14: =+BPub!W14/1000000 -> 0 | M14: =+BPub!AD14/1000000 -> 0 | N14: 0 | P14: =+BPub!I14/1000000 -> 0 | Q14: =+BPub!N14/1000000 -> 0 | R14: =+BPub!S14/1000000 -> 0 | S14: =+BPub!X14/1000000 -> 0 | T14: =+BPub!AB14/1000000 -> 0 | U14: 0 | W14: =+BPub!H14/1000000 -> 0 | X14: =+BPub!M14/1000000 -> 0 | Y14: =+BPub!R14/1000000 -> 0 | Z14: =+BPub!V14/1000000 -> 0 | AA14: =+BPub!AC14/1000000 -> 0 | AB14: 0 | AD14: 0 | AE14: 0 | AF14: 0 | AG14: 0 | AH14: 0 | AI14: 0
A15: 1103 Bancos y otras instituciones financieras | B15: 62.879835 | C15: 153.17139 | D15: 81.673916 | E15: 79.2388 | F15: 0.31715288 | G15: 33.239468 | I15: =+BPub!G15/1000000 -> 0 | J15: =+BPub!L15/1000000 -> 0 | K15: =+BPub!Q15/1000000 -> 0 | L15: =+BPub!W15/1000000 -> 0 | M15: =+BPub!AD15/1000000 -> 0 | N15: 0 | P15: =+BPub!I15/1000000 -> 47.96565 | Q15: =+BPub!N15/1000000 -> 119.02809 | R15: =+BPub!S15/1000000 -> 20.372745 | S15: =+BPub!X15/1000000 -> 71.558176 | T15: =+BPub!AB15/1000000 -> 60.408266 | U15: 54.94747 | W15: =+BPub!H15/1000000 -> 104.29187 | X15: =+BPub!M15/1000000 -> 80.819807 | Y15: =+BPub!R15/1000000 -> 64.747244 | Z15: =+BPub!V15/1000000 -> 126.37197 | AA15: =+BPub!AC15/1000000 -> 163.64368 | AB15: 236.79556 | AD15: 21.919966 | AE15: 17.390441 | AF15: 15.146017 | AG15: 39.86942 | AH15: 67.5996 | AI15: 131.83128
A16: 110310 Bancos e instituciones financieras locales | B16: 0 | C16: 0 | D16: 0 | E16: 0.08883158 | F16: 0.31144024 | G16: 0.354717 | I16: =+BPub!G16/1000000 -> 0 | J16: =+BPub!L16/1000000 -> 0 | K16: =+BPub!Q16/1000000 -> 0 | L16: =+BPub!W16/1000000 -> 0 | M16: =+BPub!AD16/1000000 -> 0 | N16: 0 | P16: =+BPub!I16/1000000 -> 22.335944 | Q16: =+BPub!N16/1000000 -> 97.562712 | R16: =+BPub!S16/1000000 -> 18.541181 | S16: =+BPub!X16/1000000 -> 66.953654 | T16: =+BPub!AB16/1000000 -> 55.641755 | U16: 45.327221 | W16: =+BPub!H16/1000000 -> 0.00833399 | X16: =+BPub!M16/1000000 -> 0.01273285 | Y16: =+BPub!R16/1000000 -> 0.00451461 | Z16: =+BPub!V16/1000000 -> 0.0085191 | AA16: =+BPub!AC16/1000000 -> 0.0087024 | AB16: 0.21188914 | AD16: 20.237038 | AE16: 15.056829 | AF16: 10.322717 | AG16: 34.100498 | AH16: 59.073852 | AI16: 109.53601
A17: 110315 Bancos e instituciones financieras del exterior | B17: 0 | C17: 0 | D17: 0 | E17: 0 | F17: 0 | G17: 0 | I17: =+BPub!G17/1000000 -> 0 | J17: =+BPub!L17/1000000 -> 0 | K17: =+BPub!Q17/1000000 -> 0 | L17: =+BPub!W17/1000000 -> 0 | M17: =+BPub!AD17/1000000 -> 0 | N17: 0 | P17: =+BPub!I17/1000000 -> 0.22236041 | Q17: =+BPub!N17/1000000 -> 0.20106107 | R17: =+BPub!S17/1000000 -> 0.45871048 | S17: =+BPub!X17/1000000 -> 0.93001833 | T17: =+BPub!AB17/1000000 -> 0.66827333 | U17: 0.0056499 | W17: =+BPub!H17/1000000 -> 0 | X17: =+BPub!M17/1000000 -> 0 | Y17: =+BPub!R17/1000000 -> 0 | Z17: =+BPub!V17/1000000 -> 0 | AA17: =+BPub!AC17/1000000 -> 0 | AB17: 0 | AD17: 0 | AE17: 0 | AF17: 0 | AG17: 0 | AH17: 0 | AI17: 0
... A56: 130420 De 181 a 360 días | B56: 0 | C56: 0 | D56: 0 | E56: 0 | F56: 0.75490834 | G56: 0.23010026 | I56: =+BPub!G56/1000000 -> 0.00050526 | J56: =+BPub!L56/1000000 -> 0.00050526 | K56: =+BPub!Q56/1000000 -> 0.00085614 | L56: =+BPub!W56/1000000 -> 0.00085614 | M56: =+BPub!AD56/1000000 -> 0.00084089 | N56: 0.00085268 | P56: =+BPub!I56/1000000 -> 0 | Q56: =+BPub!N56/1000000 -> 0 | R56: =+BPub!S56/1000000 -> 50.266398 | S56: =+BPub!X56/1000000 -> 0.94250291 | T56: =+BPub!AB56/1000000 -> 1.7799369 | U56: 2.1327086 | W56: =+BPub!H56/1000000 -> 0 | X56: =+BPub!M56/1000000 -> 0.06896993 | Y56: =+BPub!R56/1000000 -> 150.12839 | Z56: =+BPub!V56/1000000 -> 53.220859 | AA56: =+BPub!AC56/1000000 -> 53.490511 | AB56: 53.513916 | AD56: 0 | AE56: 0 | AF56: 0 | AG56: 0 | AH56: 0 | AI56: 0
A57: 130425 De más de 360 días | B57: 0 | C57: 0 | D57: 0 | E57: 0 | F57: 411.29195 | G57: 60.068686 | H57: =+F57/F52 -> 0.84497398 | I57: =+BPub!G57/1000000 -> 0.0087158 | J57: =+BPub!L57/1000000 -> 0.00770528 | K57: =+BPub!Q57/1000000 -> 0.005993 | L57: =+BPub!W57/1000000 -> 0.00428072 | M57: =+BPub!AD57/1000000 -> 0.00252269 | N57: 5.1206892 | P57: =+BPub!I57/1000000 -> 0 | Q57: =+BPub!N57/1000000 -> 0 | R57: =+BPub!S57/1000000 -> 1.6545858 | S57: =+BPub!X57/1000000 -> 7.6800283 | T57: =+BPub!AB57/1000000 -> 413.66864 | U57: 628.74053 | V57: =+T57/T52 -> 0.99236553 | W57: =+BPub!H57/1000000 -> 0.1401415 | X57: =+BPub!M57/1000000 -> 0 | Y57: =+BPub!R57/1000000 -> 0 | Z57: =+BPub!V57/1000000 -> 0 | AA57: =+BPub!AC57/1000000 -> 0 | AB57: 0 | AD57: 0 | AE57: 0 | AF57: 0 | AG57: 0 | AH57: 0 | AI57: 0
A58: 1305 Mantenidas hasta el vencimiento de entidades del sector privado | B58: 0 | C58: 0 | D58: 0 | E58: 0 | F58: 0 | G58: 0 | I58: =+BPub!G58/1000000 -> 0.15599029 | J58: =+BPub!L58/1000000 -> 0.13599346 | K58: =+BPub!Q58/1000000 -> 0.09100225 | L58: =+BPub!W58/1000000 -> 0.07000005 | M58: =+BPub!AD58/1000000 -> 0.0549897 | N58: 0.04459256 | P58: =+BPub!I58/1000000 -> 5.1520023 | Q58: =+BPub!N58/1000000 -> 4.4940464 | R58: =+BPub!S58/1000000 -> 5.027667 | S58: =+BPub!X58/1000000 -> 5.0283332 | T58: =+BPub!AB58/1000000 -> 5.0303818 | U58: 5.0574348 | W58: =+BPub!H58/1000000 -> 0 | X58: =+BPub!M58/1000000 -> 0 | Y58: =+BPub!R58/1000000 -> 0 | Z58: =+BPub!V58/1000000 -> 0 | AA58: =+BPub!AC58/1000000 -> 0 | AB58: 0 | AD58: 0 | AE58: 0 | AF58: 0 | AG58: 0 | AH58: 0 | AI58: 0
A59: 130505 De 1 a 30 días | B59: 0 | C59: 0 | D59: 0 | E59: 0 | F59: 0 | G59: 0 | I59: =+BPub!G59/1000000 -> 0 | J59: =+BPub!L59/1000000 -> 0 | K59: =+BPub!Q59/1000000 -> 0 | L59: =+BPub!W59/1000000 -> 0 | M59: =+BPub!AD59/1000000 -> 0 | N59: -0.06998929 | P59: =+BPub!I59/1000000 -> 0 | Q59: =+BPub!N59/1000000 -> 0 | R59: =+BPub!S59/1000000 -> 0 | S59: =+BPub!X59/1000000 -> 0 | T59: =+BPub!AB59/1000000 -> 0 | U59: 0 | W59: =+BPub!H59/1000000 -> 0 | X59: =+BPub!M59/1000000 -> 0 | Y59: =+BPub!R59/1000000 -> 0 | Z59: =+BPub!V59/1000000 -> 0 | AA59: =+BPub!AC59/1000000 -> 0 | AB59: 0 | AD59: 0 | AE59: 0 | AF59: 0 | AG59: 0 | AH59: 0 | AI59: 0
A60: 130510 De 31 a 90 días | B60: 0 | C60: 0 | D60: 0 | E60: 0 | F60: 0 | G60: 0 | I60: =+BPub!G60/1000000 -> 0 | J60: =+BPub!L60/1000000 -> 0 | K60: =+BPub!Q60/1000000 -> 0 | L60: =+BPub!W60/1000000 -> 0 | M60: =+BPub!AD60/1000000 -> 0 | N60: 0.11458185 | P60: =+BPub!I60/1000000 -> 0 | Q60: =+BPub!N60/1000000 -> 0 | R60: =+BPub!S60/1000000 -> 0 | S60: =+BPub!X60/1000000 -> 0 | T60: =+BPub!AB60/1000000 -> 0 | U60: 0 | W60: =+BPub!H60/1000000 -> 0 | X60: =+BPub!M60/1000000 -> 0 | Y60: =+BPub!R60/1000000 -> 0 | Z60: =+BPub!V60/1000000 -> 0 | AA60: =+BPub!AC60/1000000 -> 0 | AB60: 0 | AD60: 0 | AE60: 0 | AF60: 0 | AG60: 0 | AH60: 0 | AI60: 0
A61: 130515 De 91 a 180 días | B61: 0 | C61: 0 | D61: 0 | E61: 0 | F61: 0 | G61: 0 | I61: =+BPub!G61/1000000 -> 0 | J61: =+BPub!L61/1000000 -> 0 | K61: =+BPub!Q61/1000000 -> 0 | L61: =+BPub!W61/1000000 -> 0 | M61: =+BPub!AD61/1000000 -> 0 | N61: 0 | P61: =+BPub!I61/1000000 -> 0 | Q61: =+BPub!N61/1000000 -> 0 | R61: =+BPub!S61/1000000 -> 0 | S61: =+BPub!X61/1000000 -> 0 | T61: =+BPub!AB61/1000000 -> 0 | U61: 0 | W61: =+BPub!H61/1000000 -> 0 | X61: =+BPub!M61/1000000 -> 0 | Y61: =+BPub!R61/1000000 -> 0 | Z61: =+BPub!V61/1000000 -> 0 | AA61: =+BPub!AC61/1000000 -> 0 | AB61: 0 | AD61: 0 | AE61: 0 | AF61: 0 | AG61: 0 | AH61: 0 | AI61: 0
A62: 130520 De 181 días a 1 año | B62: 0 | C62: 0 | D62: 0 | E62: 0 | F62: 0 | G62: 0 | I62: =+BPub!G62/1000000 -> 0 | J62: =+BPub!L62/1000000 -> 0 | K62: =+BPub!Q62/1000000 -> 0 | L62: =+BPub!W62/1000000 -> 0 | M62: =+BPub!AD62/1000000 -> 0 | N62: 0 | P62: =+BPub!I62/1000000 -> 0 | Q62: =+BPub!N62/1000000 -> 0 | R62: =+BPub!S62/1000000 -> 0 | S62: =+BPub!X62/1000000 -> 0 | T62: =+BPub!AB62/1000000 -> 0 | U62: 5.0310957 | W62: =+BPub!H62/1000000 -> 0 | X62: =+BPub!M62/1000000 -> 0 | Y62: =+BPub!R62/1000000 -> 0 | Z62: =+BPub!V62/1000000 -> 0 | AA62: =+BPub!AC62/1000000 -> 0 | AB62: 0 | AD62: 0 | AE62: 0 | AF62: 0 | AG62: 0 | AH62: 0 | AI62: 0
A63: 130525 De 1 a 3 años | B63: 0 | C63: 0 | D63: 0 | E63: 0 | F63: 0 | G63: 0 | I63: =+BPub!G63/1000000 -> 0 | J63: =+BPub!L63/1000000 -> 0 | K63: =+BPub!Q63/1000000 -> 0 | L63: =+BPub!W63/1000000 -> 0.07000005 | M63: =+BPub!AD63/1000000 -> 0.0549897 | N63: 0 | P63: =+BPub!I63/1000000 -> 0 | Q63: =+BPub!N63/1000000 -> 0 | R63: =+BPub!S63/1000000 -> 0 | S63: =+BPub!X63/1000000 -> 5.0283332 | T63: =+BPub!AB63/1000000 -> 5.0303818 | U63: 0 | W63: =+BPub!H63/1000000 -> 0 | X63: =+BPub!M63/1000000 -> 0 | Y63: =+BPub!R63/1000000 -> 0 | Z63: =+BPub!V63/1000000 -> 0 | AA63: =+BPub!AC63/1000000 -> 0 | AB63: 0 | AD63: 0 | AE63: 0 | AF63: 0 | AG63: 0 | AH63: 0 | AI63: 0
A64: 130530 De 3 a 5 años | B64: 0 | C64: 0 | D64: 0 | E64: 0 | F64: 0 | G64: 0 | I64: =+BPub!G64/1000000 -> 0 | J64: =+BPub!L64/1000000 -> 0.13599346 | K64: =+BPub!Q64/1000000 -> 0.09100225 | L64: =+BPub!W64/1000000 -> 0 | M64: =+BPub!AD64/1000000 -> 0 | N64: 0 | P64: =+BPub!I64/1000000 -> 0 | Q64: =+BPub!N64/1000000 -> 0 | R64: =+BPub!S64/1000000 -> 5.027667 | S64: =+BPub!X64/1000000 -> 0 | T64: =+BPub!AB64/1000000 -> 0 | U64: 0 | W64: =+BPub!H64/1000000 -> 0 | X64: =+BPub!M64/1000000 -> 0 | Y64: =+BPub!R64/1000000 -> 0 | Z64: =+BPub!V64/1000000 -> 0 | AA64: =+BPub!AC64/1000000 -> 0 | AB64: 0 | AD64: 0 | AE64: 0 | AF64: 0 | AG64: 0 | AH64: 0 | AI64: 0
A65: 130535 De 5 a 10 años | B65: 0 | C65: 0 | D65: 0 | E65: 0 | F65: 0 | G65: 0 | I65: =+BPub!G65/1000000 -> 0.15599029 | J65: =+BPub!L65/1000000 -> 0 | K65: =+BPub!Q65/1000000 -> 0 | L65: =+BPub!W65/1000000 -> 0 | M65: =+BPub!AD65/1000000 -> 0 | N65: 0 | P65: =+BPub!I65/1000000 -> 5.1520023 | Q65: =+BPub!N65/1000000 -> 4.4940464 | R65: =+BPub!S65/1000000 -> 0 | S65: =+BPub!X65/1000000 -> 0 | T65: =+BPub!AB65/1000000 -> 0 | U65: 0.02633915 | W65: =+BPub!H65/1000000 -> 0 | X65: =+BPub!M65/1000000 -> 0 | Y65: =+BPub!R65/1000000 -> 0 | Z65: =+BPub!V65/1000000 -> 0 | AA65: =+BPub!AC65/1000000 -> 0 | AB65: 0 | AD65: 0 | AE65: 0 | AF65: 0 | AG65: 0 | AH65: 0 | AI65: 0
A66: 130540 De más de 10 años | B66: 0 | C66: 0 | D66: 0 | E66: 0 | F66: 0 | G66: 0 | I66: =+BPub!G66/1000000 -> 0 | J66: =+BPub!L66/1000000 -> 0 | K66: =+BPub!Q66/1000000 -> 0 | L66: =+BPub!W66/1000000 -> 0 | M66: =+BPub!AD66/1000000 -> 0 | N66: 0 | P66: =+BPub!I66/1000000 -> 0 | Q66: =+BPub!N66/1000000 -> 0 | R66: =+BPub!S66/1000000 -> 0 | S66: =+BPub!X66/1000000 -> 0 | T66: =+BPub!AB66/1000000 -> 0 | U66: 0 | W66: =+BPub!H66/1000000 -> 0 | X66: =+BPub!M66/1000000 -> 0 | Y66: =+BPub!R66/1000000 -> 0 | Z66: =+BPub!V66/1000000 -> 0 | AA66: =+BPub!AC66/1000000 -> 0 | AB66: 0 | AD66: 0 | AE66: 0 | AF66: 0 | AG66: 0 | AH66: 0 | AI66: 0
A67: 1306 Mantenidas hasta el vencimiento del estado o de entidades del sector público | B67: 0 | C67: 0 | D67: 0 | E67: 0 | F67: 0 | G67: 336.82703 | I67: =+BPub!G67/1000000 -> 0 | J67: =+BPub!L67/1000000 -> 0 | K67: =+BPub!Q67/1000000 -> 0 | L67: =+BPub!W67/1000000 -> 5.1079447 | M67: =+BPub!AD67/1000000 -> 0 | N67: 0 | P67: =+BPub!I67/1000000 -> 0.016 | Q67: =+BPub!N67/1000000 -> 0 | R67: =+BPub!S67/1000000 -> 0 | S67: =+BPub!X67/1000000 -> 0 | T67: =+BPub!AB67/1000000 -> 0 | U67: 0 | W67: =+BPub!H67/1000000 -> 0 | X67: =+BPub!M67/1000000 -> 0 | Y67: =+BPub!R67/1000000 -> 0 | Z67: =+BPub!V67/1000000 -> 0 | AA67: =+BPub!AC67/1000000 -> 407.49954 | AB67: 407.49963 | AC67: =+AA67/AA33 -> 0.85163649 | AD67: 0 | AE67: 0 | AF67: 0 | AG67: 0 | AH67: 12 | AI67: 0
A68: 130605 De 1 a 30 días | B68: 0 | C68: 0 | D68: 0 | E68: 0 | F68: 0 | G68: 0 | I68: =+BPub!G68/1000000 -> 0 | J68: =+BPub!L68/1000000 -> 0 | K68: =+BPub!Q68/1000000 -> 0 | L68: =+BPub!W68/1000000 -> 0.095 | M68: =+BPub!AD68/1000000 -> 0 | N68: 0 | P68: =+BPub!I68/1000000 -> 0 | Q68: =+BPub!N68/1000000 -> 0 | R68: =+BPub!S68/1000000 -> 0 | S68: =+BPub!X68/1000000 -> 0 | T68: =+BPub!AB68/1000000 -> 0 | U68: 0 | W68: =+BPub!H68/1000000 -> 0 | X68: =+BPub!M68/1000000 -> 0 | Y68: =+BPub!R68/1000000 -> 0 | Z68: =+BPub!V68/1000000 -> 0 | AA68: =+BPub!AC68/1000000 -> 0 | AB68: 0 | AD68: 0 | AE68: 0 | AF68: 0 | AG68: 0 | AH68: 0 | AI68: 0
A69: 130610 De 31 a 90 días | B69: 0 | C69: 0 | D69: 0 | E69: 0 | F69: 0 | G69: 0 | I69: =+BPub!G69/1000000 -> 0 | J69: =+BPub!L69/1000000 -> 0 | K69: =+BPub!Q69/1000000 -> 0 | L69: =+BPub!W69/1000000 -> 5.0129447 | M69: =+BPub!AD69/1000000 -> 0 | N69: 0 | P69: =+BPub!I69/1000000 -> 0 | Q69: =+BPub!N69/1000000 -> 0 | R69: =+BPub!S69/1000000 -> 0 | S69: =+BPub!X69/1000000 -> 0 | T69: =+BPub!AB69/1000000 -> 0 | U69: 0 | W69: =+BPub!H69/1000000 -> 0 | X69: =+BPub!M69/1000000 -> 0 | Y69: =+BPub!R69/1000000 -> 0 | Z69: =+BPub!V69/1000000 -> 0 | AA69: =+BPub!AC69/1000000 -> 0 | AB69: 0 | AD69: 0 | AE69: 0 | AF69: 0 | AG69: 0 | AH69: 0 | AI69: 0
A70: 130615 De 91 a 180 días | B70: 0 | C70: 0 | D70: 0 | E70: 0 | F70: 0 | G70: 2.5163326 | I70: =+BPub!G70/1000000 -> 0 | J70: =+BPub!L70/1000000 -> 0 | K70: =+BPub!Q70/1000000 -> 0 | L70: =+BPub!W70/1000000 -> 0 | M70: =+BPub!AD70/1000000 -> 0 | N70: 0 | P70: =+BPub!I70/1000000 -> 0 | Q70: =+BPub!N70/1000000 -> 0 | R70: =+BPub!S70/1000000 -> 0 | S70: =+BPub!X70/1000000 -> 0 | T70: =+BPub!AB70/1000000 -> 0 | U70: 0 | W70: =+BPub!H70/1000000 -> 0 | X70: =+BPub!M70/1000000 -> 0 | Y70: =+BPub!R70/1000000 -> 0 | Z70: =+BPub!V70/1000000 -> 0 | AA70: =+BPub!AC70/1000000 -> 0 | AB70: 0 | AD70: 0 | AE70: 0 | AF70: 0 | AG70: 0 | AH70: 0 | AI70: 0
A71: 130620 De 181 días a 1 año | B71: 0 | C71: 0 | D71: 0 | E71: 0 | F71: 0 | G71: 4.0613119 | I71: =+BPub!G71/1000000 -> 0 | J71: =+BPub!L71/1000000 -> 0 | K71: =+BPub!Q71/1000000 -> 0 | L71: =+BPub!W71/1000000 -> 0 | M71: =+BPub!AD71/1000000 -> 0 | N71: 0 | P71: =+BPub!I71/1000000 -> 0 | Q71: =+BPub!N71/1000000 -> 0 | R71: =+BPub!S71/1000000 -> 0 | S71: =+BPub!X71/1000000 -> 0 | T71: =+BPub!AB71/1000000 -> 0 | U71: 0 | W71: =+BPub!H71/1000000 -> 0 | X71: =+BPub!M71/1000000 -> 0 | Y71: =+BPub!R71/1000000 -> 0 | Z71: =+BPub!V71/1000000 -> 0 | AA71: =+BPub!AC71/1000000 -> 0 | AB71: 0 | AD71: 0 | AE71: 0 | AF71: 0 | AG71: 0 | AH71: 12 | AI71: 0
A72: 130625 De 1 a 3 años | B72: 0 | C72: 0 | D72: 0 | E72: 0 | F72: 0 | G72: 230.24928 | I72: =+BPub!G72/1000000 -> 0 | J72: =+BPub!L72/1000000 -> 0 | K72: =+BPub!Q72/1000000 -> 0 | L72: =+BPub!W72/1000000 -> 0 | M72: =+BPub!AD72/1000000 -> 0 | N72: 0 | P72: =+BPub!I72/1000000 -> 0 | Q72: =+BPub!N72/1000000 -> 0 | R72: =+BPub!S72/1000000 -> 0 | S72: =+BPub!X72/1000000 -> 0 | T72: =+BPub!AB72/1000000 -> 0 | U72: 0 | W72: =+BPub!H72/1000000 -> 0 | X72: =+BPub!M72/1000000 -> 0 | Y72: =+BPub!R72/1000000 -> 0 | Z72: =+BPub!V72/1000000 -> 0 | AA72: =+BPub!AC72/1000000 -> 150 | AB72: 150 | AC72: =+AA72/AA67 -> 0.36809858 | AD72: 0 | AE72: 0 | AF72: 0 | AG72: 0 | AH72: 0 | AI72: 0
A73: 130630 De 3 a 5 años | B73: 0 | C73: 0 | D73: 0 | E73: 0 | F73: 0 | G73: 100.00011 | I73: =+BPub!G73/1000000 -> 0 | J73: =+BPub!L73/1000000 -> 0 | K73: =+BPub!Q73/1000000 -> 0 | L73: =+BPub!W73/1000000 -> 0 | M73: =+BPub!AD73/1000000 -> 0 | N73: 0 | P73: =+BPub!I73/1000000 -> 0 | Q73: =+BPub!N73/1000000 -> 0 | R73: =+BPub!S73/1000000 -> 0 | S73: =+BPub!X73/1000000 -> 0 | T73: =+BPub!AB73/1000000 -> 0 | U73: 0 | W73: =+BPub!H73/1000000 -> 0 | X73: =+BPub!M73/1000000 -> 0 | Y73: =+BPub!R73/1000000 -> 0 | Z73: =+BPub!V73/1000000 -> 0 | AA73: =+BPub!AC73/1000000 -> 0 | AB73: 257.49963 | AD73: 0 | AE73: 0 | AF73: 0 | AG73: 0 | AH73: 0 | AI73: 0
A74: 130635 De 5 a 10 años | B74: 0 | C74: 0 | D74: 0 | E74: 0 | F74: 0 | G74: 0 | I74: =+BPub!G74/1000000 -> 0 | J74: =+BPub!L74/1000000 -> 0 | K74: =+BPub!Q74/1000000 -> 0 | L74: =+BPub!W74/1000000 -> 0 | M74: =+BPub!AD74/1000000 -> 0 | N74: 0 | P74: =+BPub!I74/1000000 -> 0 | Q74: =+BPub!N74/1000000 -> 0 | R74: =+BPub!S74/1000000 -> 0 | S74: =+BPub!X74/1000000 -> 0 | T74: =+BPub!AB74/1000000 -> 0 | U74: 0 | W74: =+BPub!H74/1000000 -> 0 | X74: =+BPub!M74/1000000 -> 0 | Y74: =+BPub!R74/1000000 -> 0 | Z74: =+BPub!V74/1000000 -> 0 | AA74: =+BPub!AC74/1000000 -> 257.49954 | AB74: 0 | AC74: =+AA74/AA67 -> 0.63190142 | AD74: 0 | AE74: 0 | AF74: 0 | AG74: 0 | AH74: 0 | AI74: 0
A75: 130640 De más de 10 años | B75: 0 | C75: 0 | D75: 0 | E75: 0 | F75: 0 | G75: 0 | I75: =+BPub!G75/1000000 -> 0 | J75: =+BPub!L75/1000000 -> 0 | K75: =+BPub!Q75/1000000 -> 0 | L75: =+BPub!W75/1000000 -> 0 | M75: =+BPub!AD75/1000000 -> 0 | N75: 0 | P75: =+BPub!I75/1000000 -> 0.016 | Q75: =+BPub!N75/1000000 -> 0 | R75: =+BPub!S75/1000000 -> 0 | S75: =+BPub!X75/1000000 -> 0 | T75: =+BPub!AB75/1000000 -> 0 | U75: 0 | W75: =+BPub!H75/1000000 -> 0 | X75: =+BPub!M75/1000000 -> 0 | Y75: =+BPub!R75/1000000 -> 0 | Z75: =+BPub!V75/1000000 -> 0 | AA75: =+BPub!AC75/1000000 -> 0 | AB75: 0 | AD75: 0 | AE75: 0 | AF75: 0 | AG75: 0 | AH75: 0 | AI75: 0
A76: 1307 De disponibilidad restringida | B76: 1.979022 | C76: 0.67768 | D76: 0.383212 | E76: 15.088864 | F76: 0 | G76: 0 | I76: =+BPub!G76/1000000 -> 0 | J76: =+BPub!L76/1000000 -> 0 | K76: =+BPub!Q76/1000000 -> 0 | L76: =+BPub!W76/1000000 -> 4.5 | M76: =+BPub!AD76/1000000 -> 0 | N76: 0 | P76: =+BPub!I76/1000000 -> 39.560782 | Q76: =+BPub!N76/1000000 -> 7.8197124 | R76: =+BPub!S76/1000000 -> 24.64566 | S76: =+BPub!X76/1000000 -> 38.964771 | T76: =+BPub!AB76/1000000 -> 70.654 | U76: 135.02571 | W76: =+BPub!H76/1000000 -> 0.66335961 | X76: =+BPub!M76/1000000 -> 0.33319163 | Y76: =+BPub!R76/1000000 -> 4.9999246 | Z76: =+BPub!V76/1000000 -> 8 | AA76: =+BPub!AC76/1000000 -> 17.499946 | AB76: 17.499957 | AD76: 0 | AE76: 0 | AF76: 0 | AG76: 0 | AH76: 0 | AI76: 0
A77: 130705 Entregadas para operaciones de reporto | B77: 0 | C77: 0 | D77: 0 | E77: 0 | F77: 0 | G77: 0 | I77: =+BPub!G77/1000000 -> 0 | J77: =+BPub!L77/1000000 -> 0 | K77: =+BPub!Q77/1000000 -> 0 | L77: =+BPub!W77/1000000 -> 0 | M77: =+BPub!AD77/1000000 -> 0 | N77: 0 | P77: =+BPub!I77/1000000 -> 0 | Q77: =+BPub!N77/1000000 -> 0 | R77: =+BPub!S77/1000000 -> 0.47144114 | S77: =+BPub!X77/1000000 -> 0.43 | T77: =+BPub!AB77/1000000 -> 0.654 | U77: 65.025714 | W77: =+BPub!H77/1000000 -> 0 | X77: =+BPub!M77/1000000 -> 0 | Y77: =+BPub!R77/1000000 -> 0 | Z77: =+BPub!V77/1000000 -> 0 | AA77: =+BPub!AC77/1000000 -> 0 | AB77: 0 | AD77: 0 | AE77: 0 | AF77: 0 | AG77: 0 | AH77: 0 | AI77: 0
A78: 130710 Depósitos sujetos a restricción | B78: 1.006874 | C78: 0 | D78: 0 | E78: 0 | F78: 0 | G78: 0 | I78: =+BPub!G78/1000000 -> 0 | J78: =+BPub!L78/1000000 -> 0 | K78: =+BPub!Q78/1000000 -> 0 | L78: =+BPub!W78/1000000 -> 0 | M78: =+BPub!AD78/1000000 -> 0 | N78: 0 | P78: =+BPub!I78/1000000 -> 0 | Q78: =+BPub!N78/1000000 -> 0 | R78: =+BPub!S78/1000000 -> 0 | S78: =+BPub!X78/1000000 -> 0 | T78: =+BPub!AB78/1000000 -> 0 | U78: 0 | W78: =+BPub!H78/1000000 -> 0 | X78: =+BPub!M78/1000000 -> 0 | Y78: =+BPub!R78/1000000 -> 0 | Z78: =+BPub!V78/1000000 -> 0 | AA78: =+BPub!AC78/1000000 -> 0 | AB78: 0 | AD78: 0 | AE78: 0 | AF78: 0 | AG78: 0 | AH78: 0 | AI78: 0
A79: 130715 Títulos valores para encaje | B79: 0.972148 | C79: 0.67768 | D79: 0.383212 | E79: 15.088864 | F79: 0 | G79: 0 | I79: =+BPub!G79/1000000 -> 0 | J79: =+BPub!L79/1000000 -> 0 | K79: =+BPub!Q79/1000000 -> 0 | L79: =+BPub!W79/1000000 -> 4.5 | M79: =+BPub!AD79/1000000 -> 0 | N79: 0 | P79: =+BPub!I79/1000000 -> 4.586514 | Q79: =+BPub!N79/1000000 -> 7.8197124 | R79: =+BPub!S79/1000000 -> 24.174219 | S79: =+BPub!X79/1000000 -> 38.534771 | T79: =+BPub!AB79/1000000 -> 70 | U79: 70 | W79: =+BPub!H79/1000000 -> 0.66335961 | X79: =+BPub!M79/1000000 -> 0.33319163 | Y79: =+BPub!R79/1000000 -> 4.9999246 | Z79: =+BPub!V79/1000000 -> 8 | AA79: =+BPub!AC79/1000000 -> 17.499946 | AB79: 17.499957 | AD79: 0 | AE79: 0 | AF79: 0 | AG79: 0 | AH79: 0 | AI79: 0
...

Sheet Fondeo
B3: BNF | H3: CFN | N3: BEDE | T3: BEV
B4: 2008 | C4: 2009 | D4: 2010 | E4: 2011 | F4: 2012 | H4: 2008 | I4: 2009 | J4: 2010 | K4: 2011 | L4: 2012 | N4: 2008 | O4: 2009 | P4: 2010 | Q4: 2011 | R4: 2012 | T4: 2008 | U4: 2009 | V4: 2010 | W4: 2011 | X4: 2012
A5: =+Sistema!A557 -> 2 PASIVOS | B5: =+Sistema!B557 -> 458.5684 | C5: =+Sistema!C557 -> 701.28739 | D5: =+Sistema!D557 -> 881.49597 | E5: =+Sistema!E557 -> 929.397 | F5: =+Sistema!F557 -> 1376.8553 | H5: =+Sistema!P557 -> 218.47061 | I5: =+Sistema!Q557 -> 827.36787 | J5: =+Sistema!R557 -> 894.2678 | K5: =+Sistema!S557 -> 1032.6148 | L5: =+Sistema!T557 -> 1693.1661 | N5: =+Sistema!W557 -> 348.52305 | O5: =+Sistema!X557 -> 575.99453 | P5: =+Sistema!Y557 -> 791.1486 | Q5: =+Sistema!Z557 -> 827.6862 | R5: =+Sistema!AA557 -> 1235.062 | T5: =+Sistema!I557 -> 65.678748 | U5: =+Sistema!J557 -> 122.35656 | V5: =+Sistema!K557 -> 219.6865 | W5: =+Sistema!L557 -> 213.08049 | X5: =+Sistema!M557 -> 194.89403
A6: =+Sistema!A558 -> 21 OBLIGACIONES CON EL PUBLICO | B6: =+Sistema!B558 -> 362.07742 | C6: =+Sistema!C558 -> 621.02798 | D6: =+Sistema!D558 -> 774.09848 | E6: =+Sistema!E558 -> 852.96324 | F6: =+Sistema!F558 -> 1248.1441 | H6: =+Sistema!P558 -> 115.18814 | I6: =+Sistema!Q558 -> 680.91135 | J6: =+Sistema!R558 -> 707.86662 | K6: =+Sistema!S558 -> 908.4614 | L6: =+Sistema!T558 -> 1532.7481 | N6: =+Sistema!W558 -> 44.25211 | O6: =+Sistema!X558 -> 246.63354 | P6: =+Sistema!Y558 -> 407.9693 | Q6: =+Sistema!Z558 -> 324.22844 | R6: =+Sistema!AA558 -> 680.06348 | T6: =+Sistema!I558 -> 54.200637 | U6: =+Sistema!J558 -> 110.36125 | V6: =+Sistema!K558 -> 177.98562 | W6: =+Sistema!L558 -> 197.64015 | X6: =+Sistema!M558 -> 172.64822
A7: =+Sistema!A559 -> 2101 Depósitos a la vista | B7: =+Sistema!B559 -> 328.58438 | C7: =+Sistema!C559 -> 363.67017 | D7: =+Sistema!D559 -> 462.79634 | E7: =+Sistema!E559 -> 593.41152 | F7: =+Sistema!F559 -> 755.95786 | H7: =+Sistema!P559 -> 0 | I7: =+Sistema!Q559 -> 0 | J7: =+Sistema!R559 -> 0 | K7: =+Sistema!S559 -> 0 | L7: =+Sistema!T559 -> 0 | N7: =+Sistema!W559 -> 0 | O7: =+Sistema!X559 -> 0 | P7: =+Sistema!Y559 -> 0 | Q7: =+Sistema!Z559 -> 0 | R7: =+Sistema!AA559 -> 0 | T7: =+Sistema!I559 -> 16.142497 | U7: =+Sistema!J559 -> 16.384081 | V7: =+Sistema!K559 -> 34.20816 | W7: =+Sistema!L559 -> 32.863942 | X7: =+Sistema!M559 -> 20.235911
A8: =+Sistema!A560 -> 210105 Depósitos monetarios que generan intereses | B8: =+Sistema!B560 -> 35.787885 | C8: =+Sistema!C560 -> 34.790528 | D8: =+Sistema!D560 -> 60.099744 | E8: =+Sistema!E560 -> 103.15536 | F8: =+Sistema!F560 -> 196.18137 | H8: =+Sistema!P560 -> 0 | I8: =+Sistema!Q560 -> 0 | J8: =+Sistema!R560 -> 0 | K8: =+Sistema!S560 -> 0 | L8: =+Sistema!T560 -> 0 | N8: =+Sistema!W560 -> 0 | O8: =+Sistema!X560 -> 0 | P8: =+Sistema!Y560 -> 0 | Q8: =+Sistema!Z560 -> 0 | R8: =+Sistema!AA560 -> 0 | T8: =+Sistema!I560 -> 0 | U8: =+Sistema!J560 -> 0 | V8: =+Sistema!K560 -> 0 | W8: =+Sistema!L560 -> 0 | X8: =+Sistema!M560 -> 0
A9: =+Sistema!A561 -> 210110 Depósitos monetarios que no generan intereses | B9: =+Sistema!B561 -> 24.08234 | C9: =+Sistema!C561 -> 24.990282 | D9: =+Sistema!D561 -> 34.003003 | E9: =+Sistema!E561 -> 49.979683 | F9: =+Sistema!F561 -> 39.024038 | H9: =+Sistema!ADC61 -> 0 | I9: =+Sistema!ADD61 -> 0 | J9: =+Sistema!ADE61 -> 0 | K9: =+Sistema!ADF61 -> 0 | L9: =+Sistema!ADG61 -> 0 | N9: =+Sistema!ADJ61 -> 0 | O9: =+Sistema!ADK61 -> 0 | P9: =+Sistema!ADL61 -> 0 | Q9: =+Sistema!ADM61 -> 0 | R9: =+Sistema!ADN61 -> 0 | T9: =+Sistema!I61 -> 0 | U9: =+Sistema!J61 -> 0 | V9: =+Sistema!K61 -> 0 | W9: =+Sistema!L61 -> 0 | X9: =+Sistema!M61 -> 0
A10: =+Sistema!A562 -> 210115 Depósitos monetarios de instituciones financieras | B10: =+Sistema!B562 -> 8.1744774 | C10: =+Sistema!C562 -> 7.484839 | D10: =+Sistema!D562 -> 7.9584289 | E10: =+Sistema!E562 -> 8.075563 | F10: =+Sistema!F562 -> 5.5765627 | H10: =+Sistema!P562 -> 0 | I10: =+Sistema!Q562 -> 0 | J10: =+Sistema!R562 -> 0 | K10: =+Sistema!S562 -> 0 | L10: =+Sistema!T562 -> 0 | N10: =+Sistema!W562 -> 0 | O10: =+Sistema!X562 -> 0 | P10: =+Sistema!Y562 -> 0 | Q10: =+Sistema!Z562 -> 0 | R10: =+Sistema!AA562 -> 0 | T10: =+Sistema!I562 -> 0 | U10: =+Sistema!J562 -> 0 | V10: =+Sistema!K562 -> 0 | W10: =+Sistema!L562 -> 0 | X10: =+Sistema!M562 -> 0
A11: =+Sistema!A563 -> 210120 Ejecución presupuestaria | B11: =+Sistema!B563 -> 1.9365551 | C11: =+Sistema!C563 -> 7.0807031 | D11: =+Sistema!D563 -> 1.0566506 | E11: =+Sistema!E563 -> 0 | F11: =+Sistema!F563 -> 0 | H11: =+Sistema!P563 -> 0 | I11: =+Sistema!Q563 -> 0 | J11: =+Sistema!R563 -> 0 | K11: =+Sistema!S563 -> 0 | L11: =+Sistema!T563 -> 0 | N11: =+Sistema!W563 -> 0 | O11: =+Sistema!X563 -> 0 | P11: =+Sistema!Y563 -> 0 | Q11: =+Sistema!Z563 -> 0 | R11: =+Sistema!AA563 -> 0 | T11: =+Sistema!I563 -> 0 | U11: =+Sistema!J563 -> 0 | V11: =+Sistema!K563 -> 0 | W11: =+Sistema!L563 -> 0 | X11: =+Sistema!M563 -> 0
A12: =+Sistema!A564 -> 210125 Depósitos de otras instituciones para encaje | B12: =+Sistema!B564 -> 2.1695661 | C12: =+Sistema!C564 -> 8.6932789 | D12: =+Sistema!D564 -> 3.6421311 | E12: =+Sistema!E564 -> 2.1578613 | F12: =+Sistema!F564 -> 0.83317367 | H12: =+Sistema!P564 -> 0 | I12: =+Sistema!Q564 -> 0 | J12: =+Sistema!R564 -> 0 | K12: =+Sistema!S564 -> 0 | L12: =+Sistema!T564 -> 0 | N12: =+Sistema!W564 -> 0 | O12: =+Sistema!X564 -> 0 | P12: =+Sistema!Y564 -> 0 | Q12: =+Sistema!Z564 -> 0 | R12: =+Sistema!AA564 -> 0 | T12: =+Sistema!I564 -> 0 | U12: =+Sistema!J564 -> 0 | V12: =+Sistema!K564 -> 0 | W12: =+Sistema!L564 -> 0 | X12: =+Sistema!M564 -> 0
A13: =+Sistema!A565 -> 210130 Cheques certificados | B13: =+Sistema!B565 -> 0.76370779 | C13: =+Sistema!C565 -> 0.64378806 | D13: =+Sistema!D565 -> 0.45102064 | E13: =+Sistema!E565 -> 0.40083239 | F13: =+Sistema!F565 -> 0.75405389 | H13: =+Sistema!P565 -> 0 | I13: =+Sistema!Q565 -> 0 | J13: =+Sistema!R565 -> 0 | K13: =+Sistema!S565 -> 0 | L13: =+Sistema!T565 -> 0 | N13: =+Sistema!W565 -> 0 | O13: =+Sistema!X565 -> 0 | P13: =+Sistema!Y565 -> 0 | Q13: =+Sistema!Z565 -> 0 | R13: =+Sistema!AA565 -> 0 | T13: =+Sistema!I565 -> 0 | U13: =+Sistema!J565 -> 0 | V13: =+Sistema!K565 -> 0 | W13: =+Sistema!L565 -> 0 | X13: =+Sistema!M565 -> 0
A14: =+Sistema!A566 -> 210135 Depósitos de ahorro | B14: =+Sistema!B566 -> 180.21908 | C14: =+Sistema!C566 -> 207.94534 | D14: =+Sistema!D566 -> 266.04679 | E14: =+Sistema!E566 -> 311.75748 | F14: =+Sistema!F566 -> 375.12825 | H14: =+Sistema!P566 -> 0 | I14: =+Sistema!Q566 -> 0 | J14: =+Sistema!R566 -> 0 | K14: =+Sistema!S566 -> 0 | L14: =+Sistema!T566 -> 0 | N14: =+Sistema!W566 -> 0 | O14: =+Sistema!X566 -> 0 | P14: =+Sistema!Y566 -> 0 | Q14: =+Sistema!Z566 -> 0 | R14: =+Sistema!AA566 -> 0 | T14: =+Sistema!I566 -> 16.12425 | U14: =+Sistema!J566 -> 16.357423 | V14: =+Sistema!K566 -> 34.190017 | W14: =+Sistema!L566 -> 32.852261 | X14: =+Sistema!M566 -> 20.229326
A15: =+Sistema!A567 -> 210140 Otros depósitos | B15: =+Sistema!B567 -> 72.542418 | C15: =+Sistema!C567 -> 70.625568 | D15: =+Sistema!D567 -> 86.262902 | E15: =+Sistema!E567 -> 116.09435 | F15: =+Sistema!F567 -> 132.80264 | H15: =+Sistema!P567 -> 0 | I15: =+Sistema!Q567 -> 0 | J15: =+Sistema!R567 -> 0 | K15: =+Sistema!S567 -> 0 | L15: =+Sistema!T567 -> 0 | N15: =+Sistema!W567 -> 0 | O15: =+Sistema!X567 -> 0 | P15: =+Sistema!Y567 -> 0 | Q15: =+Sistema!Z567 -> 0 | R15: =+Sistema!AA567 -> 0 | T15: =+Sistema!I567 -> 0 | U15: =+Sistema!J567 -> 0 | V15: =+Sistema!K567 -> 0 | W15: =+Sistema!L567 -> 0 | X15: =+Sistema!M567 -> 0
A16: =+Sistema!A568 -> 210145 Fondos de tarjetahabientes | B16: =+Sistema!B568 -> 0 | C16: =+Sistema!C568 -> 0 | D16: =+Sistema!D568 -> 0 | E16: =+Sistema!E568 -> 0 | F16: =+Sistema!F568 -> 0 | H16: =+Sistema!P568 -> 0 | I16: =+Sistema!Q568 -> 0 | J16: =+Sistema!R568 -> 0 | K16: =+Sistema!S568 -> 0 | L16: =+Sistema!T568 -> 0 | N16: =+Sistema!W568 -> 0 | O16: =+Sistema!X568 -> 0 | P16: =+Sistema!Y568 -> 0 | Q16: =+Sistema!Z568 -> 0 | R16: =+Sistema!AA568 -> 0 | T16: =+Sistema!I568 -> 0 | U16: =+Sistema!J568 -> 0 | V16: =+Sistema!K568 -> 0 | W16: =+Sistema!L568 -> 0 | X16: =+Sistema!M568 -> 0
A17: =+Sistema!A569 -> 210150 Depósitos por confirmar | B17: =+Sistema!B569 -> 2.9083554 | C17: =+Sistema!C569 -> 1.4158454 | D17: =+Sistema!D569 -> 3.2756748 | E17: =+Sistema!E569 -> 1.790391 | F17: =+Sistema!F569 -> 5.6577781 | H17: =+Sistema!P569 -> 0 | I17: =+Sistema!Q569 -> 0 | J17: =+Sistema!R569 -> 0 | K17: =+Sistema!S569 -> 0 | L17: =+Sistema!T569 -> 0 | N17: =+Sistema!W569 -> 0 | O17: =+Sistema!X569 -> 0 | P17: =+Sistema!Y569 -> 0 | Q17: =+Sistema!Z569 -> 0 | R17: =+Sistema!AA569 -> 0 | T17: =+Sistema!I569 -> 0.01824657 | U17: =+Sistema!J569 -> 0.02665723 | V17: =+Sistema!K569 -> 0.01814315 | W17: =+Sistema!L569 -> 0.01168041 | X17: =+Sistema!M569 -> 0.0065851
A18: =+Sistema!A570 -> 210155 Depósitos de cuenta basica | B18: =+Sistema!B570 -> 0 | C18: =+Sistema!C570 -> 0 | D18: =+Sistema!D570 -> 0 | E18: =+Sistema!E570 -> 0 | F18: =+Sistema!F570 -> 0 | H18: =+Sistema!P570 -> 0 | I18: =+Sistema!Q570 -> 0 | J18: =+Sistema!R570 -> 0 | K18: =+Sistema!S570 -> 0 | L18: =+Sistema!T570 -> 0 | N18: =+Sistema!W570 -> 0 | O18: =+Sistema!X570 -> 0 | P18: =+Sistema!Y570 -> 0 | Q18: =+Sistema!Z570 -> 0 | R18: =+Sistema!AA570 -> 0 | T18: =+Sistema!I570 -> 0 | U18: =+Sistema!J570 -> 0 | V18: =+Sistema!K570 -> 0 | W18: =+Sistema!L570 -> 0 | X18: =+Sistema!M570 -> 0
A19: =+Sistema!A571 -> 2102 Operaciones de reporto | B19: =+Sistema!B571 -> 0 | C19: =+Sistema!C571 -> 0 | D19: =+Sistema!D571 -> 0 | E19: =+Sistema!E571 -> 0 | F19: =+Sistema!F571 -> 0 | H19: =+Sistema!P571 -> 15.188141 | I19: =+Sistema!Q571 -> 0 | J19: =+Sistema!R571 -> 0.4 | K19: =+Sistema!S571 -> 0.43 | L19: =+Sistema!T571 -> 0.654 | N19: =+Sistema!W571 -> 0 | O19: =+Sistema!X571 -> 0 | P19: =+Sistema!Y571 -> 0 | Q19: =+Sistema!Z571 -> 0 | R19: =+Sistema!AA571 -> 0 | T19: =+Sistema!I571 -> 0 | U19: =+Sistema!J571 -> 0 | V19: =+Sistema!K571 -> 0 | W19: =+Sistema!L571 -> 0 | X19: =+Sistema!M571 -> 0
A20: =+Sistema!A575 -> 2103 Depósitos a plazo | B20: =+Sistema!B575 -> 32.952588 | C20: =+Sistema!C575 -> 256.5331 | D20: =+Sistema!D575 -> 310.28438 | E20: =+Sistema!E575 -> 258.40628 | F20: =+Sistema!F575 -> 490.89729 | H20: =+Sistema!P575 -> 100 | I20: =+Sistema!Q575 -> 680.91135 | J20: =+Sistema!R575 -> 707.46662 | K20: =+Sistema!S575 -> 908.0314 | L20: =+Sistema!T575 -> 1532.0941 | N20: =+Sistema!W575 -> 44.25211 | O20: =+Sistema!X575 -> 246.63354 | P20: =+Sistema!Y575 -> 407.9693 | Q20: =+Sistema!Z575 -> 324.22844 | R20: =+Sistema!AA575 -> 680.06348 | T20: =+Sistema!I575 -> 0 | U20: =+Sistema!J575 -> 50 | V20: =+Sistema!K575 -> 100 | W20: =+Sistema!L575 -> 125 | X20: =+Sistema!M575 -> 125
A21: =+Sistema!A582 -> 2104 Depósitos de garantía | B21: =+Sistema!B582 -> 0.54044882 | C21: =+Sistema!C582 -> 0.82470919 | D21: =+Sistema!D582 -> 1.0177538 | E21: =+Sistema!E582 -> 1.1454315 | F21: =+Sistema!F582 -> 1.2889307 | H21: =+Sistema!P582 -> 0 | I21: =+Sistema!Q582 -> 0 | J21: =+Sistema!R582 -> 0 | K21: =+Sistema!S582 -> 0 | L21: =+Sistema!T582 -> 0 | N21: =+Sistema!W582 -> 0 | O21: =+Sistema!X582 -> 0 | P21: =+Sistema!Y582 -> 0 | Q21: =+Sistema!Z582 -> 0 | R21: =+Sistema!AA582 -> 0 | T21: =+Sistema!I582 -> 38.058141 | U21: =+Sistema!J582 -> 43.977167 | V21: =+Sistema!K582 -> 43.77746 | W21: =+Sistema!L582 -> 39.776208 | X21: =+Sistema!M582 -> 27.412308
A22: =+Sistema!A583 -> 2105 Depósitos restringidos | B22: =+Sistema!B583 -> 0 | C22: =+Sistema!C583 -> 0 | D22: =+Sistema!D583 -> 0 | E22: =+Sistema!E583 -> 0 | F22: =+Sistema!F583 -> 0 | H22: =+Sistema!P583 -> 0 | I22: =+Sistema!Q583 -> 0 | J22: =+Sistema!R583 -> 0 | K22: =+Sistema!S583 -> 0 | L22: =+Sistema!T583 -> 0 | N22: =+Sistema!W583 -> 0 | O22: =+Sistema!X583 -> 0 | P22: =+Sistema!Y583 -> 0 | Q22: =+Sistema!Z583 -> 0 | R22: =+Sistema!AA583 -> 0 | T22: =+Sistema!I583 -> 0 | U22: =+Sistema!J583 -> 0 | V22: =+Sistema!K583 -> 0 | W22: =+Sistema!L583 -> 0 | X22: =+Sistema!M583 -> 0
A23: =+Sistema!A584 -> 22 OPERACIONES INTERBANCARIAS | B23: =+Sistema!B584 -> 0 | C23: =+Sistema!C584 -> 0 | D23: =+Sistema!D584 -> 0 | E23: =+Sistema!E584 -> 0 | F23: =+Sistema!F584 -> 0 | H23: =+Sistema!P584 -> 0 | I23: =+Sistema!Q584 -> 0 | J23: =+Sistema!R584 -> 0 | K23: =+Sistema!S584 -> 0 | L23: =+Sistema!T584 -> 0 | N23: =+Sistema!W584 -> 0 | O23: =+Sistema!X584 -> 0 | P23: =+Sistema!Y584 -> 0 | Q23: =+Sistema!Z584 -> 0 | R23: =+Sistema!AA584 -> 0 | T23: =+Sistema!I584 -> 0 | U23: =+Sistema!J584 -> 0 | V23: =+Sistema!K584 -> 0 | W23: =+Sistema!L584 -> 0 | X23: =+Sistema!M584 -> 0
A24: =+Sistema!A593 -> 23 OBLIGACIONES INMEDIATAS | B24: =+Sistema!B593 -> 22.242263 | C24: =+Sistema!C593 -> 11.6998 | D24: =+Sistema!D593 -> 12.32875 | E24: =+Sistema!E593 -> 9.9746294 | F24: =+Sistema!F593 -> 18.091583 | H24: =+Sistema!P593 -> 0.0091771 | I24: =+Sistema!Q593 -> 0 | J24: =+Sistema!R593 -> 0 | K24: =+Sistema!S593 -> 0 | L24: =+Sistema!T593 -> 0 | N24: =+Sistema!W593 -> 0 | O24: =+Sistema!X593 -> 0 | P24: =+Sistema!Y593 -> 0 | Q24: =+Sistema!Z593 -> 0 | R24: =+Sistema!AA593 -> 0 | T24: =+Sistema!I593 -> 0 | U24: =+Sistema!J593 -> 0 | V24: =+Sistema!K593 -> 0 | W24: =+Sistema!L593 -> 0 | X24: =+Sistema!M593 -> 0
A25: =+Sistema!A603 -> 24 ACEPTACIONES EN CIRCULACION | B25: =+Sistema!B603 -> 0 | C25: =+Sistema!C603 -> 0 | D25: =+Sistema!D603 -> 0 | E25: =+Sistema!E603 -> 0 | F25: =+Sistema!F603 -> 0 | H25: =+Sistema!P603 -> 0 | I25: =+Sistema!Q603 -> 0 | J25: =+Sistema!R603 -> 0 | K25: =+Sistema!S603 -> 0 | L25: =+Sistema!T603 -> 0 | N25: =+Sistema!W603 -> 0 | O25: =+Sistema!X603 -> 0 | P25: =+Sistema!Y603 -> 0 | Q25: =+Sistema!Z603 -> 0 | R25: =+Sistema!AA603 -> 0 | T25: =+Sistema!I603 -> 0 | U25: =+Sistema!J603 -> 0 | V25: =+Sistema!K603 -> 0 | W25: =+Sistema!L603 -> 0 | X25: =+Sistema!M603 -> 0
A26: =+Sistema!A606 -> 25 CUENTAS POR PAGAR | B26: =+Sistema!B606 -> 32.888808 | C26: =+Sistema!C606 -> 19.369907 | D26: =+Sistema!D606 -> 36.835734 | E26: =+Sistema!E606 -> 36.019294 | F26: =+Sistema!F606 -> 42.293653 | H26: =+Sistema!P606 -> 22.450937 | I26: =+Sistema!Q606 -> 46.429077 | J26: =+Sistema!R606 -> 52.215316 | K26: =+Sistema!S606 -> 51.422438 | L26: =+Sistema!T606 -> 58.655628 | N26: =+Sistema!W606 -> 101.51431 | O26: =+Sistema!X606 -> 135.02101 | P26: =+Sistema!Y606 -> 156.84704 | Q26: =+Sistema!Z606 -> 181.83308 | R26: =+Sistema!AA606 -> 181.73659 | T26: =+Sistema!I606 -> 8.6187186 | U26: =+Sistema!J606 -> 9.4391102 | V26: =+Sistema!K606 -> 8.3999956 | W26: =+Sistema!L606 -> 8.6875956 | X26: =+Sistema!M606 -> 8.6659985
A27: =+Sistema!A644 -> 26 OBLIGACIONES FINANCIERAS | B27: =+Sistema!B644 -> 1.2458451 | C27: =+Sistema!C644 -> 0.93494819 | D27: =+Sistema!D644 -> 0.63488786 | E27: =+Sistema!E644 -> 0.3801893 | F27: =+Sistema!F644 -> 0.20843233 | H27: =+Sistema!P644 -> 73.015254 | I27: =+Sistema!Q644 -> 78.235575 | J27: =+Sistema!R644 -> 132.11359 | K27: =+Sistema!S644 -> 68.420504 | L27: =+Sistema!T644 -> 100.0103 | N27: =+Sistema!W644 -> 11.225812 | O27: =+Sistema!X644 -> 12.777499 | P27: =+Sistema!Y644 -> 14.701895 | Q27: =+Sistema!Z644 -> 14.995807 | R27: =+Sistema!AA644 -> 13.660862 | T27: =+Sistema!I644 -> 1.5665256 | U27: =+Sistema!J644 -> 1.2969397 | V27: =+Sistema!K644 -> 1.1636091 | W27: =+Sistema!L644 -> 1.0302786 | X27: =+Sistema!M644 -> 0.91775853
A28: =+Sistema!A703 -> 27 VALORES EN CIRCULACION | B28: =+Sistema!B703 -> 0 | C28: =+Sistema!C703 -> 0 | D28: =+Sistema!D703 -> 0 | E28: =+Sistema!E703 -> 0 | F28: =+Sistema!F703 -> 0 | H28: =+Sistema!P703 -> 0.51424173 | I28: =+Sistema!Q703 -> 0.51424173 | J28: =+Sistema!R703 -> 0.51424173 | K28: =+Sistema!S703 -> 0.51424173 | L28: =+Sistema!T703 -> 0 | N28: =+Sistema!W703 -> 0 | O28: =+Sistema!X703 -> 0 | P28: =+Sistema!Y703 -> 0 | Q28: =+Sistema!Z703 -> 0 | R28: =+Sistema!AA703 -> 0 | T28: =+Sistema!I703 -> 0 | U28: =+Sistema!J703 -> 0 | V28: =+Sistema!K703 -> 0 | W28: =+Sistema!L703 -> 0 | X28: =+Sistema!M703 -> 0
A29: =+Sistema!A714 -> 28 OBLIGACIONES CONVERTIBLES EN ACCIONES Y APORTES PARA FUTURA CAPITALIZACION | B29: =+Sistema!B714 -> 0 | C29: =+Sistema!C714 -> 0 | D29: =+Sistema!D714 -> 0 | E29: =+Sistema!E714 -> 0 | F29: =+Sistema!F714 -> 0 | H29: =+Sistema!P714 -> 0 | I29: =+Sistema!Q714 -> 0 | J29: =+Sistema!R714 -> 0 | K29: =+Sistema!S714 -> 0 | L29: =+Sistema!T714 -> 0 | N29: =+Sistema!W714 -> 0 | O29: =+Sistema!X714 -> 0 | P29: =+Sistema!Y714 -> 0 | Q29: =+Sistema!Z714 -> 0 | R29: =+Sistema!AA714 -> 0 | T29: =+Sistema!I714 -> 0 | U29: =+Sistema!J714 -> 0 | V29: =+Sistema!K714 -> 0 | W29: =+Sistema!L714 -> 0 | X29: =+Sistema!M714 -> 0
A30: =+Sistema!A722 -> 29 OTROS PASIVOS | B30: =+Sistema!B722 -> 40.114064 | C30: =+Sistema!C722 -> 48.254759 | D30: =+Sistema!D722 -> 57.598117 | E30: =+Sistema!E722 -> 30.059652 | F30: =+Sistema!F722 -> 68.11757 | H30: =+Sistema!P722 -> 7.2928593 | I30: =+Sistema!Q722 -> 21.277632 | J30: =+Sistema!R722 -> 1.5580351 | K30: =+Sistema!S722 -> 3.7961867 | L30: =+Sistema!T722 -> 1.7521139 | N30: =+Sistema!W722 -> 191.53081 | O30: =+Sistema!X722 -> 181.56248 | P30: =+Sistema!Y722 -> 211.63036 | Q30: =+Sistema!Z722 -> 306.62888 | R30: =+Sistema!AA722 -> 359.6011 | T30: =+Sistema!I722 -> 1.2928669 | U30: =+Sistema!J722 -> 1.2592646 | V30: =+Sistema!K722 -> 32.13728 | W30: =+Sistema!L722 -> 5.7224654 | X30: =+Sistema!M722 -> 12.662049
A33: Crecimiento
A34: 2101 Depósitos a la vista | C34: =+C7/B7-1 -> 0.10677862 | D34: =+D7/C7-1 -> 0.27257163 | E34: =+E7/D7-1 -> 0.28223037 | F34: =+F7/E7-1 -> 0.27391841 | U34: =+U7/T7-1 -> 0.01496571 | V34: =+V7/U7-1 -> 1.0878901 | W34: =+W7/V7-1 -> -0.039295245 | X34: =+X7/W7-1 -> -0.38425185
A35: 210105 Depósitos monetarios que generan intereses | C35: =+C8/B8-1 -> -0.027868576 | D35: =+D8/C8-1 -> 0.72747435 | E35: =+E8/D8-1 -> 0.71640264 | F35: =+F8/E8-1 -> 0.90180491 | U35: =+U8/T8-1 -> #DIV/0! | V35: =+V8/U8-1 -> #DIV/0! | W35: =+W8/V8-1 -> #DIV/0! | X35: =+X8/W8-1 -> #DIV/0!
A36: 210110 Depósitos monetarios que no generan intereses | C36: =+C9/B9-1 -> 0.037701557 | D36: =+D9/C9-1 -> 0.36064904 | E36: =+E9/D9-1 -> 0.46986086 | F36: =+F9/E9-1 -> -0.21920197 | U36: =+U9/T9-1 -> #DIV/0! | V36: =+V9/U9-1 -> #DIV/0! | W36: =+W9/V9-1 -> #DIV/0! | X36: =+X9/W9-1 -> #DIV/0!
A37: 210115 Depósitos monetarios de instituciones financieras | C37: =+C10/B10-1 -> -0.084364832 | D37: =+D10/C10-1 -> 0.063273234 | E37: =+E10/D10-1 -> 0.01471824 | F37: =+F10/E10-1 -> -0.30945215 | U37: =+U10/T10-1 -> #DIV/0! | V37: =+V10/U10-1 -> #DIV/0! | W37: =+W10/V10-1 -> #DIV/0! | X37: =+X10/W10-1 -> #DIV/0!
A38: 210120 Ejecución presupuestaria | C38: =+C11/B11-1 -> 2.6563396 | D38: =+D11/C11-1 -> -0.85077039 | E38: =+E11/D11-1 -> -1 | F38: =+F11/E11-1 -> #DIV/0! | U38: =+U11/T11-1 -> #DIV/0! | V38: =+V11/U11-1 -> #DIV/0! | W38: =+W11/V11-1 -> #DIV/0! | X38: =+X11/W11-1 -> #DIV/0!
A39: 210125 Depósitos de otras instituciones para encaje | C39: =+C12/B12-1 -> 3.0069205 | D39: =+D12/C12-1 -> -0.58104057 | E39: =+E12/D12-1 -> -0.40752785 | F39: =+F12/E12-1 -> -0.61388914 | U39: =+U12/T12-1 -> #DIV/0! | V39: =+V12/U12-1 -> #DIV/0! | W39: =+W12/V12-1 -> #DIV/0! | X39: =+X12/W12-1 -> #DIV/0!
A40: 210130 Cheques certificados | C40: =+C13/B13-1 -> -0.15702305 | D40: =+D13/C13-1 -> -0.29942683 | E40: =+E13/D13-1 -> -0.11127706 | F40: =+F13/E13-1 -> 0.88121995 | U40: =+U13/T13-1 -> #DIV/0! | V40: =+V13/U13-1 -> #DIV/0! | W40: =+W13/V13-1 -> #DIV/0! | X40: =+X13/W13-1 -> #DIV/0!
A41: 210135 Depósitos de ahorro | C41: =+C14/B14-1 -> 0.15384753 | D41: =+D14/C14-1 -> 0.27940731 | E41: =+E14/D14-1 -> 0.1718145 | F41: =+F14/E14-1 -> 0.20326943 | U41: =+U14/T14-1 -> 0.01446103 | V41: =+V14/U14-1 -> 1.0901835 | W41: =+W14/V14-1 -> -0.039127073 | X41: =+X14/W14-1 -> -0.38423337
A42: 210140 Otros depósitos | C42: =+C15/B15-1 -> -0.026423849 | D42: =+D15/C15-1 -> 0.22141181 | E42: =+E15/D15-1 -> 0.34582013 | F42: =+F15/E15-1 -> 0.14391992 | U42: =+U15/T15-1 -> #DIV/0! | V42: =+V15/U15-1 -> #DIV/0! | W42: =+W15/V15-1 -> #DIV/0! | X42: =+X15/W15-1 -> #DIV/0!
A43: 210145 Fondos de tarjetahabientes | C43: =+C16/B16-1 -> #DIV/0! | D43: =+D16/C16-1 -> #DIV/0! | E43: =+E16/D16-1 -> #DIV/0! | F43: =+F16/E16-1 -> #DIV/0! | U43: =+U16/T16-1 -> #DIV/0! | V43: =+V16/U16-1 -> #DIV/0! | W43: =+W16/V16-1 -> #DIV/0! | X43: =+X16/W16-1 -> #DIV/0!
A44: 210150 Depósitos por confirmar | C44: =+C17/B17-1 -> -0.51318007 | D44: =+D17/C17-1 -> 1.3135823 | E44: =+E17/D17-1 -> -0.45342835 | F44: =+F17/E17-1 -> 2.1600797 | U44: =+U17/T17-1 -> 0.46094471 | V44: =+V17/U17-1 -> -0.31939102 | W44: =+W17/V17-1 -> -0.35620827 | X44: =+X17/W17-1 -> -0.43622698
...

Sheet Obligaciones con el público
A2: BNF
B3: 2008 | C3: 2009 | D3: 2010 | E3: 2011 | F3: 2012
A4: Obligaciones con el Público | B4: =+Fondeo!B6 -> 362.07742 | C4: =+Fondeo!C6 -> 621.02798 | D4: =+Fondeo!D6 -> 774.09848 | E4: =+Fondeo!E6 -> 852.96324 | F4: =+Fondeo!F6 -> 1248.1441
A5: Depósitos a la vista | B5: =+Fondeo!B7 -> 328.58438 | C5: =+Fondeo!C7 -> 363.67017 | D5: =+Fondeo!D7 -> 462.79634 | E5: =+Fondeo!E7 -> 593.41152 | F5: =+Fondeo!F7 -> 755.95786
A6: Operaciones de reporto | B6: =+Fondeo!B19 -> 0 | C6: =+Fondeo!C19 -> 0 | D6: =+Fondeo!D19 -> 0 | E6: =+Fondeo!E19 -> 0 | F6: =+Fondeo!F19 -> 0
A7: Depósitos a plazo | B7: =+Fondeo!B20 -> 32.952588 | C7: =+Fondeo!C20 -> 256.5331 | D7: =+Fondeo!D20 -> 310.28438 | E7: =+Fondeo!E20 -> 258.40628 | F7: =+Fondeo!F20 -> 490.89729
A8: Depósitos de garantía | B8: =+Fondeo!B21 -> 0.54044882 | C8: =+Fondeo!C21 -> 0.82470919 | D8: =+Fondeo!D21 -> 1.0177538 | E8: =+Fondeo!E21 -> 1.1454315 | F8: =+Fondeo!F21 -> 1.2889307
A9: Depósitos restringidos | B9: =+Fondeo!B22 -> 0 | C9: =+Fondeo!C22 -> 0 | D9: =+Fondeo!D22 -> 0 | E9: =+Fondeo!E22 -> 0 | F9: =+Fondeo!F22 -> 0
A11: Crecimiento
A12: Obligaciones con el Público | C12: =+C4/B4-1 -> 0.71518008 | D12: =+D4/C4-1 -> 0.24647923 | E12: =+E4/D4-1 -> 0.10187949 | F12: =+F4/E4-1 -> 0.46330349
A13: Depósitos a la vista | C13: =+C5/B5-1 -> 0.10677862 | D13: =+D5/C5-1 -> 0.27257163 | E13: =+E5/D5-1 -> 0.28223037 | F13: =+F5/E5-1 -> 0.27391841
A14: Depósitos a plazo | C14: =+C7/B7-1 -> 6.7849152 | D14: =+D7/C7-1 -> 0.20952962 | E14: =+E7/D7-1 -> -0.16719533 | F14: =+F7/E7-1 -> 0.89971111
A16: Participación
A17: Obligaciones con el Público
A18: Depósitos a la vista | B18: =+B5/B4 -> 0.90749758 | C18: =+C5/C4 -> 0.58559386 | D18: =+D5/D4 -> 0.59785203 | E18: =+E5/E4 -> 0.69570586 | F18: =+F5/F4 -> 0.60566554
A19: Depósitos a plazo | B19: =+B7/B4 -> 0.091009784 | C19: =+C7/C4 -> 0.41307817 | D19: =+D7/D4 -> 0.40083321 | E19: =+E7/E4 -> 0.30295125 | F19: =+F7/F4 -> 0.39330178
A22: Depósitos a plazo | B22: =+Fondeo!B62 -> 32.952588 | C22: =+Fondeo!C62 -> 256.5331 | D22: =+Fondeo!D62 -> 310.28438 | E22: =+Fondeo!E62 -> 258.40628 | F22: =+Fondeo!F62 -> 490.89729
A23: De 1 a 30 días | B23: =+Fondeo!B63 -> 11.919341 | C23: =+Fondeo!C63 -> 22.511647 | D23: =+Fondeo!D63 -> 19.831497 | E23: =+Fondeo!E63 -> 24.285457 | F23: =+Fondeo!F63 -> 30.446669
A24: De 31 a 90 días | B24: =+Fondeo!B64 -> 13.866725 | C24: =+Fondeo!C64 -> 19.215846 | D24: =+Fondeo!D64 -> 23.939276 | E24: =+Fondeo!E64 -> 33.124882 | F24: =+Fondeo!F64 -> 33.127135
A25: De 91 a 180 días | B25: =+Fondeo!B65 -> 5.3072507 | C25: =+Fondeo!C65 -> 7.24804 | D25: =+Fondeo!D65 -> 20.259643 | E25: =+Fondeo!E65 -> 18.42048 | F25: =+Fondeo!F65 -> 23.613084
A26: De 181 a 360 días | B26: =+Fondeo!B66 -> 1.7006396 | C26: =+Fondeo!C66 -> 2.2888269 | D26: =+Fondeo!D66 -> 4.381428 | E26: =+Fondeo!E66 -> 79.815558 | F26: =+Fondeo!F66 -> 24.24818
A27: De más de 361 días | B27: =+Fondeo!B67 -> 0.1546319 | C27: =+Fondeo!C67 -> 205.26874 | D27: =+Fondeo!D67 -> 241.87204 | E27: =+Fondeo!E67 -> 102.75787 | F27: =+Fondeo!F67 -> 379.46222
A28: Depósitos por confirmar | B28: =+Fondeo!B68 -> 0.004 | C28: =+Fondeo!C68 -> 0 | D28: =+Fondeo!D68 -> 0.0005 | E28: =+Fondeo!E68 -> 0.00203462 | F28: =+Fondeo!F68 -> 0

Sheet BPub
B4: 2007 | C4: 2007 | D4: 2007 | E4: 2007 | G4: 2008 | H4: 2008 | I4: 2008 | J4: 2008 | L4: 2009 | M4: 2009 | N4: 2009 | O4: 2009 | Q4: 2010 | R4: 2010 | S4: 2010 | T4: 2010 | V4: 2011 | W4: 2011 | X4: 2011 | Y4: 2011 | AB4: 2012 | AC4: 2012 | AD4: 2012 | AE4: 2012
B5: B.E.V. | C5: BANCO DEL ESTADO | D5: C.F.N. | E5: BNF | G5: B.E.V. | H5: BANCO DEL ESTADO | I5: C.F.N. | J5: BNF | L5: B.E.V. | M5: BANCO DEL ESTADO | N5: C.F.N. | O5: BNF | Q5: B.E.V. | R5: BANCO DEL ESTADO | S5: C.F.N. | T5: BNF | V5: BANCO DEL ESTADO | W5: B.E.V. | X5: C.F.N. | Y5: BNF | AB5: CFN | AC5: BEDE | AD5: BEV | AE5: BNF
A6: 1 ACTIVO | B6: 1.1512301e+08 | C6: 4.2341631e+08 | D6: 5.0712758e+08 | E6: 6.2544115e+08 | G6: 1.3880335e+08 | H6: 5.5945546e+08 | I6: 6.5850138e+08 | J6: 8.3226041e+08 | L6: 1.9699797e+08 | M6: 8.3541879e+08 | N6: 1.2297828e+09 | O6: 1.1209801e+09 | Q6: 2.9921908e+08 | R6: 1.1378176e+09 | S6: 1.3441075e+09 | T6: 1.2972693e+09 | V6: 1.2390403e+09 | W6: 2.9521733e+08 | X6: 1.5130418e+09 | Y6: 1.3423954e+09 | AA6: 1 | AB6: 2.5991209e+09 | AC6: 1.7016739e+09 | AD6: 2.6769246e+08 | AE6: 1775.6159
A7: 11 FONDOS DISPONIBLES | B7: 4021785.6 | C7: 86875944 | D7: 1.1730629e+08 | E7: 89142163 | G7: 8018690.7 | H7: 105145305 | I7: 48055228 | J7: 99131064 | L7: 56530869 | M7: 90189407 | N7: 1.3938295e+08 | O7: 1.9441334e+08 | Q7: 1.2792527e+08 | R7: 76069921 | S7: 25877651 | T7: 113636624 | V7: 1.3134444e+08 | W7: 45419744 | X7: 71867732 | Y7: 1.7642869e+08 | AA7: 11 | AB7: 60972364 | AC7: 1.6364638e+08 | AD7: 40465403 | AE7: 91.807389
A8: 1101 Caja | B8: 32928.31 | C8: 3203.46 | D8: 32362.57 | E8: 10490216 | G8: 45338.43 | H8: 3431 | I8: 38160.74 | J8: 11222411 | L8: 82206.58 | M8: 3001 | N8: 48608.36 | O8: 13164520 | Q8: 101355.39 | R8: 3905.53 | S8: 33035.22 | T8: 13736825 | V8: 3333.88 | W8: 109913.82 | X8: 39846.12 | Y8: 13810986 | AA8: 1101 | AB8: 29198.63 | AC8: 2700 | AD8: 105585.61 | AE8: 17.498699
A9: 110105 Efectivo | B9: 30823.31 | C9: 3.46 | D9: 5862.57 | E9: 10486198 | G9: 42778.43 | H9: 31 | I9: 2060.74 | J9: 11219007 | L9: 79966.58 | M9: 1 | N9: 11608.36 | O9: 13160597 | Q9: 98720.39 | R9: 1305.53 | S9: 9385.29 | T9: 13732681 | V9: 733.88 | W9: 107028.12 | X9: 17496.12 | Y9: 13806934 | AA9: 110105 | AB9: 21778.63 | AC9: 100 | AD9: 104314.61 | AE9: 17.488997
A10: 110110 Caja chica | B10: 2105 | C10: 3200 | D10: 26500 | E10: 4018.1 | G10: 2560 | H10: 3400 | I10: 36100 | J10: 3404.09 | L10: 2240 | M10: 3000 | N10: 37000 | O10: 3922.1 | Q10: 2635 | R10: 2600 | S10: 23649.93 | T10: 4143.92 | V10: 2600 | W10: 2885.7 | X10: 22350 | Y10: 4051.7 | AA10: 110110 | AB10: 7420 | AC10: 2600 | AD10: 1271 | AE10: 0.00970175
A11: 1102 Depósitos para encaje | B11: 3974719.1 | C11: 0 | D11: 0 | E11: 20254382 | G11: 7792438.1 | H11: 850000 | I11: 0 | J11: 23666865 | L11: 56430467 | M11: 9366599.7 | N11: 20000000 | O11: 27205088 | Q11: 1.2777537e+08 | R11: 11318772 | S11: 4700036.1 | T11: 16026298 | V11: 4969137.3 | W11: 45076035 | X11: 100036.09 | Y11: 82292379 | AA11: 1102 | AB11: 10036.09 | AC11: 0 | AD11: 40315629 | AE11: 70.298499
A12: 110205 Banco Central del Ecuador | B12: 2661458.6 | C12: 0 | D12: 0 | E12: 20254382 | G12: 6939527 | H12: 850000 | I12: 0 | J12: 23666865 | L12: 55783451 | M12: 9366599.7 | N12: 20000000 | O12: 27205088 | Q12: 1.2674089e+08 | R12: 11318772 | S12: 4700036.1 | T12: 16026298 | V12: 4969137.3 | W12: 43452982 | X12: 100036.09 | Y12: 82292379 | AA12: 110205 | AB12: 10036.09 | AC12: 0 | AD12: 39142265 | AE12: 70.298499
A13: 110210 Banco Nacional de Fomento | B13: 1313260.5 | C13: 0 | D13: 0 | E13: 0 | G13: 852911.09 | H13: 0 | I13: 0 | J13: 0 | L13: 647016.29 | M13: 0 | N13: 0 | O13: 0 | Q13: 1034481.8 | R13: 0 | S13: 0 | T13: 0 | V13: 0 | W13: 1623053.3 | X13: 0 | Y13: 0 | AA13: 110210 | AB13: 0 | AC13: 0 | AD13: 1173363.4 | AE13: 0
A14: 110215 Bancos locales | B14: 0 | C14: 0 | D14: 0 | E14: 0 | G14: 0 | H14: 0 | I14: 0 | J14: 0 | L14: 0 | M14: 0 | N14: 0 | O14: 0 | Q14: 0 | R14: 0 | S14: 0 | T14: 0 | V14: 0 | W14: 0 | X14: 0 | Y14: 0 | AA14: 110215 | AB14: 0 | AC14: 0 | AD14: 0 | AE14: 0
A15: 1103 Bancos y otras instituciones financieras | B15: 0 | C15: 86872740 | D15: 1.1721796e+08 | E15: 56672298 | G15: 0 | H15: 104291874 | I15: 47965650 | J15: 62879835 | L15: 0 | M15: 80819807 | N15: 1.1902809e+08 | O15: 1.5317139e+08 | Q15: 0 | R15: 64747244 | S15: 20372745 | T15: 81673916 | V15: 1.2637197e+08 | W15: 0 | X15: 71558176 | Y15: 79238800 | AA15: 1103 | AB15: 60408266 | AC15: 1.6364368e+08 | AD15: 0 | AE15: 0.31715288
A16: 110310 Bancos e instituciones financieras locales | B16: 0 | C16: 8096.02 | D16: 614000.25 | E16: 0 | G16: 0 | H16: 8333.99 | I16: 22335944 | J16: 0 | L16: 0 | M16: 12732.85 | N16: 97562712 | O16: 0 | Q16: 0 | R16: 4514.61 | S16: 18541181 | T16: 0 | V16: 8519.1 | W16: 0 | X16: 66953654 | Y16: 88831.58 | AA16: 110310 | AB16: 55641755 | AC16: 8702.4 | AD16: 0 | AE16: 0.31144024
A17: 110315 Bancos e instituciones financieras del exterior | B17: 0 | C17: 0 | D17: 1.1033033e+08 | E17: 0 | G17: 0 | H17: 0 | I17: 222360.41 | J17: 0 | L17: 0 | M17: 0 | N17: 201061.07 | O17: 0 | Q17: 0 | R17: 0 | S17: 458710.48 | T17: 0 | V17: 0 | W17: 0 | X17: 930018.33 | Y17: 0 | AA17: 110315 | AB17: 668273.33 | AC17: 0 | AD17: 0 | AE17: 0
... A80: 130720 Entregadas en garantía | B80: 0 | C80: 0 | D80: 10578528 | E80: 0 | G80: 0 | H80: 0 | I80: 34974268 | J80: 0 | L80: 0 | M80: 0 | N80: 0 | O80: 0 | Q80: 0 | R80: 0 | S80: 0 | T80: 0 | V80: 0 | W80: 0 | X80: 0 | Y80: 0 | AA80: 130720 | AB80: 0 | AC80: 0 | AD80: 0 | AE80: 0
A81: 130790 Otros | AA81: 130790 | AB81: 0 | AC81: 0 | AD81: 0 | AE81: 0
A82: 1399 (Provisión para inversiones) | B82: -1869.78 | C82: 0 | D82: -475917.56 | E82: 0 | G82: -1559.9 | H82: 0 | I82: -653367.93 | J82: 0 | L82: -1359.93 | M82: 0 | N82: -302899.44 | O82: 0 | Q82: -1109.99 | R82: 0 | S82: -708839.95 | T82: 0 | V82: 0 | W82: -300799.99 | X82: -841064.37 | Y82: -274916.78 | AA82: 1399 | AB82: -58059.09 | AC82: 0 | AD82: -549.9 | AE82: -0.47976994
A83: 139905 (Provisión para valuación de inversiones mantenidas hasta el vencimiento y restringidas) | B83: -1869.78 | C83: 0 | D83: -475917.56 | E83: 0 | G83: -1559.9 | H83: 0 | I83: -653367.93 | J83: 0 | L83: -1359.93 | M83: 0 | N83: -302899.44 | O83: 0 | Q83: -1109.99 | R83: 0 | S83: -708839.95 | T83: 0 | V83: 0 | W83: -799.99 | X83: -841064.37 | Y83: 0 | AA83: 139905 | AB83: -58059.09 | AC83: 0 | AD83: -549.9 | AE83: 0
A84: 139910 (Provisión general para inversiones) | B84: 0 | C84: 0 | D84: 0 | E84: 0 | G84: 0 | H84: 0 | I84: 0 | J84: 0 | L84: 0 | M84: 0 | N84: 0 | O84: 0 | Q84: 0 | R84: 0 | S84: 0 | T84: 0 | V84: 0 | W84: -300000 | X84: 0 | Y84: -274916.78 | AA84: 139910 | AB84: 0 | AC84: 0 | AD84: 0 | AE84: -0.47976994
A85: 14 CARTERA DE CREDITOS | B85: 33584098 | C85: 3.2061846e+08 | D85: 2.0490124e+08 | E85: 3.5751169e+08 | G85: 42338606 | H85: 4.3818132e+08 | I85: 3.8675461e+08 | J85: 5.5999475e+08 | L85: 39185950 | M85: 7.2937508e+08 | N85: 6.2654671e+08 | O85: 6.3178784e+08 | Q85: 84689318 | R85: 8.7316286e+08 | S85: 8.0194467e+08 | T85: 9.3448229e+08 | V85: 9.1527995e+08 | W85: 1.5457051e+08 | X85: 9.4291879e+08 | Y85: 9.0265256e+08 | AA85: 14 | AB85: 1120903695 | AC85: 9.6501915e+08 | AD85: 1.6925637e+08 | AE85: 886.92515
A86: 1401 Cartera de créditos comercial por vencer | B86: 17148882 | C86: 3.3363047e+08 | D86: 2.0140803e+08 | E86: 2.74958e+08 | G86: 26623461 | H86: 4.4983715e+08 | I86: 3.6098121e+08 | J86: 4.0615777e+08 | L86: 26197522 | M86: 7.3970782e+08 | N86: 5.6175008e+08 | O86: 4.7171657e+08 | Q86: 67244088 | R86: 8.8473317e+08 | S86: 7.4066132e+08 | T86: 5.2681037e+08 | V86: 9.2696198e+08 | W86: 1.3629766e+08 | X86: 8.7913567e+08 | Y86: 6.0518234e+08 | AA86: 1401 | AB86: 1.0965814e+09 | AC86: 0 | AD86: 1.3998314e+08 | AE86: 479.9085
A87: 140105 De 1 a 30 días | B87: 349423.13 | C87: 8348844.5 | D87: 6309555.8 | E87: 11114316 | G87: 397398.09 | H87: 8941310.9 | I87: 10935121 | J87: 14092983 | L87: 625161.44 | M87: 16463553 | N87: 14792682 | O87: 17192182 | Q87: 1653171.1 | R87: 20527731 | S87: 22455896 | T87: 20455767 | V87: 22399591 | W87: 5114783 | X87: 32721106 | Y87: 23101982 | AA87: 140105 | AB87: 32181702 | AC87: 0 | AD87: 13431137 | AE87: 18.362026
A88: 140110 De 31 a 90 días | B88: 715402.71 | C88: 15725057 | D88: 10918067 | E88: 19865585 | G88: 961740.79 | H88: 18359528 | I88: 14939335 | J88: 26149972 | L88: 1712800.2 | M88: 30868679 | N88: 17721560 | O88: 27780397 | Q88: 2893010.5 | R88: 39169003 | S88: 36759472 | T88: 28545669 | V88: 44869526 | W88: 9478729.9 | X88: 46231859 | Y88: 33987450 | AA88: 140110 | AB88: 55652605 | AC88: 0 | AD88: 9455213.6 | AE88: 27.852175
A89: 140115 De 91 a 180 días | B89: 1071829.4 | C89: 22177552 | D89: 12331657 | E89: 29499571 | G89: 1082555.9 | H89: 26642256 | I89: 27537308 | J89: 41554880 | L89: 3046257.2 | M89: 44712581 | N89: 35731293 | O89: 44837276 | Q89: 3088796.6 | R89: 58126322 | S89: 56606588 | T89: 47152811 | V89: 63144698 | W89: 13284151 | X89: 62289758 | Y89: 52353242 | AA89: 140115 | AB89: 73784256 | AC89: 0 | AD89: 14806435 | AE89: 42.640933
A90: 140120 De 181 a 360 días | B90: 2137075 | C90: 43710142 | D90: 19939741 | E90: 56974582 | G90: 2400772.1 | H90: 51001783 | I90: 40045817 | J90: 80691220 | L90: 3554673.6 | M90: 91015569 | N90: 63335259 | O90: 89408470 | Q90: 11424542 | R90: 1.111484e+08 | S90: 87830768 | T90: 91101845 | V90: 1.1560551e+08 | W90: 30335890 | X90: 99595143 | Y90: 91955181 | AA90: 140120 | AB90: 1.1959287e+08 | AC90: 0 | AD90: 37860245 | AE90: 71.578531
