Workbook

Sheet FACTORES 
B1: POR: GABRIELA CATALINA CHIRIBOGA TRUJILLO
B3: F A C T O R E S P A R A C Á L C U L O D E L A E F I C I E N C I A
C6: Eficiencia en Tiempo (i)
C7: Tiempo efectivamente trabajado por hora transcurrida (minutos) | D7: Factor (i) | E7: Calificación
C8: 60 | D8: 1 | E8: Utópico | G8: =D8 -> 1
C9: 50 | D9: 0.83 | E9: Bueno | G9: =D9 -> 0.83
C10: 40 | D10: 0.67 | E10: Medio | G10: =D10 -> 0.67
C11: 30 | D11: 0.5 | E11: Pobre | G11: =D11 -> 0.5
C14: Operación (o)
C15: Habilidad del operador | D15: Factor (o)
C16: Excelente | D16: 91 - 100% | G16: 0.95
C17: Buena | D17: 81 - 90% | G17: 0.85
C18: Regular | D18: 71 - 80% | G18: 0.75
C19: Mala | D19: 60 - 70% | G19: 0.65
C22: Administración (a)
C23: Nivel de Organización de la Administración | D23: Factor (a)
C24: Excelente | D24: 91 - 95 % | G24: 0.93
C25: Bueno | D25: 81 - 90 % | G25: 0.85
C26: Regular - Bueno | D26: 71 - 80 % | G26: 0.75
C27: Malo - Aceptable | D27: 61 - 70% | G27: 0.65
C30: Tipo de material (m)
C31: Tipo de material | E31: Factor (m) | F31: Trabajabilidad
C32: Tierra no compactada; arena; grava; y suelo suave | E32: 1 | F32: Muy Fácil | G32: =E32 -> 1
C33: Tierra compactada; arcilla seca; y suelos con contenido rocoso < 25% | E33: 0.9 | F33: Fácil | G33: =E33 -> 0.9
C34: Suelo duro con contenido de roca > 25% <50% | E34: 0.8 | F34: Medio | G34: =E34 -> 0.8
C35: Roca dinamitada o escarificada; suelos con contenido rocoso >50% <75% | E35: 0.7 | F35: Difícil | G35: =E35 -> 0.7
C36: Rocas y areniscas | E36: 0.6 | F36: Muy Difícil | G36: =E36 -> 0.6
C39: Estado del material (e)
C40: Estado del material | D40: Factor (e)
C41: Suelto | D41: 1 | G41: =D41 -> 1
C42: En banco | D42: Fw | G42: 0.85 | H42: Arcilla en banco
C43: Compactado | D43: Fh | G43: 0.89 | H43: Arena y limo en banco
C46: Factor de llenado (c)
C47: Especificaciones del Equipo | E47: Factor (c)
C48: Capacidad real | D48: VR | G48: 0.95 | H48: Arena y Limos
C49: Capacidad nominal | D49: VN | G49: 0.85 | H49: Arcilla
G50: 0.9 | H50: Limos y Arcillas
C52: Maniobra y alcance (g)
C53: Giro en grados | D53: Factor (g)
C54: 90° | D54: 1 | G54: =D54 -> 1
...

Sheet DESCRIPCIÓN SUELO
B1: POR: GABRIELA CATALINA CHIRIBOGA TRUJILLO
B3: FECHA | C3: REGISTRO No. | D3: LUGAR | E3: PROYECTO | F3: DESCRIPCIÓN DEL SUELO | G3: SUCS | H3: ESTRATOS
B5: 2009 | C5: S 1363 | D5: Tababela | E5: Nuevo Aeropuerto Internacional Quito | F5: limo arenoso color café claro | G5: ML | H5: N/A
B6: 2009 | C6: S 1262 | D6: Tababela (Barrio Morachupa) | E6: Torre de Transmisión Eléctrica Tababela | F6: arcilla de baja plasticidad, color café claro, consistencia dura | G6: CL | H6: 1 | I6: 0 - 4m
F7: limo arenoso de baja plasticidad, color café, consistencia dura | G7: ML | H7: 2 | I7: 3m - 7m
B8: 2010 | C8: S 1645 | D8: Tababela | E8: Vivienda Familiar de 2 plantas | F8: limo arenoso, color café oscuro muy húmedo | G8: ML | H8: 1 | I8: 1m - 2,50m
F9: arena fina limosa no plástica, color café oscuro, muy húmeda | G9: SM | H9: 2 | I9: 3m - 3,50m
F10: arena fina limosa no plástica, color café oscuro, muy húmeda, con presencia de pómez | G10: SM | H10: 3 | I10: 4m - 5,50m
F11: arena de grano medio limosa no plástica, color café oscuro, muy húmeda, con presencia de pómez | G11: SM | H11: 4 | I11: 6m - 6,50m

Sheet DENSIDAD RELATIVA SUELO
B1: POR: GABRIELA CATALINA CHIRIBOGA TRUJILLO
B3: AÑO | C3: PROYECTO | D3: SONDEO No. | E3: PROFUNDIDAD | F3: h | G3: SUELO | H3: DESCRIPCIÓN DEL SUELO | I3: SPT | J3: NSPT | K3: PESO UNITARIO | L3: N60 | M3: CN | N3: (N1)60 | O3: Dr | P3: DENSIDAD RELATIVA CARACTERIZACIÓN | Q3: COMPACIDAD | T3: PROYECTO | U3: SONDEO No. | V3: PROFUNDIDAD | W3: h | X3: SUELO | Y3: DESCRIPCIÓN DEL SUELO | Z3: SPT | AA3: NSPT | AB3: PESO UNITARIO | AC3: nh | AD3: nb | AE3: ns | AF3: nr | AG3: N60 | AH3: CN | AI3: (N1)60 | AJ3: Dr | AK3: DENSIDAD RELATIVA CARACTERIZACIÓN | AL3: COMPACIDAD
B5: 2009 | C5: Torre de Transmisión Eléctrica Tababela | D5: 1 | E5: 0 - 4 | F5: 4 | G5: CL | H5: Arcilla de baja plasticidad | I5: >30 | J5: 33 | K5: 17.8 | L5: =AG5 -> 19.8 | M5: =((1/((F5*K5)/100))^0.5) -> 1.1851137 | N5: =M5*L5 -> 23.46525 | O5: =((L5/(17+(24*((K5*F5)/100))))^0.5) -> 0.76213487 | P5: =IF(O5<0.15,"Muy suelto",IF(AND(O5>0.15,O5<0.5),"Suelto",IF(AND(O5>0.5,O5<0.7),"Medianamente denso",IF(AND(O5>0.7,O5<0.85),"Denso","Muy denso")))) -> Denso | T5: Torre de Transmisión Eléctrica Tababela | U5: 1 | V5: 0 - 4 | W5: =4-0 -> 4 | X5: CL | Y5: Arcilla de baja plasticidad | Z5: >30 | AA5: =J5 -> 33 | AB5: =K5 -> 17.8 | AC5: 45 | AD5: 1 | AE5: 1 | AF5: 0.8 | AG5: =(AA5*AC5*AD5*AE5*AF5)/60 -> 19.8 | AH5: =((1/((W5*AB5)/100))^0.5) -> 1.1851137 | AI5: =AH5*AG5 -> 23.46525 | AJ5: =((AG5/(17+(24*((AB5*W5)/100))))^0.5) -> 0.76213487 | AK5: =IF(AJ5<0.15,"Muy suelto",IF(AND(AJ5>0.15,AJ5<0.5),"Suelto",IF(AND(AJ5>0.5,AJ5<0.7),"Medianamente denso",IF(AND(AJ5>0.7,AJ5<0.85),"Denso","Muy denso")))) -> Denso
E6: 4 - 7 | F6: 7 | G6: ML | H6: Limo arenoso de baja plasticidad | I6: >30 | J6: 47 | K6: 19 | L6: =AG6 -> 31.725 | M6: =((1/((F6*K6)/100))^0.5) -> 0.86710997 | N6: =M6*L6 -> 27.509064 | O6: =((L6/(17+(24*((K6*F6)/100))))^0.5) -> 0.8052998 | P6: =IF(O6<0.15,"Muy suelto",IF(AND(O6>0.15,O6<0.5),"Suelto",IF(AND(O6>0.5,O6<0.7),"Medianamente denso",IF(AND(O6>0.7,O6<0.85),"Denso","Muy denso")))) -> Denso | V6: 4 - 7 | W6: 7 | X6: ML | Y6: Limo arenoso de baja plasticidad | Z6: >30 | AA6: =J6 -> 47 | AB6: =K6 -> 19 | AC6: 45 | AD6: 1 | AE6: 1 | AF6: 0.9 | AG6: =(AA6*AC6*AD6*AE6*AF6)/60 -> 31.725 | AH6: =((1/((W6*AB6)/100))^0.5) -> 0.86710997 | AI6: =AH6*AG6 -> 27.509064 | AJ6: =((AG6/(17+(24*((AB6*W6)/100))))^0.5) -> 0.8052998 | AK6: =IF(AJ6<0.15,"Muy suelto",IF(AND(AJ6>0.15,AJ6<0.5),"Suelto",IF(AND(AJ6>0.5,AJ6<0.7),"Medianamente denso",IF(AND(AJ6>0.7,AJ6<0.85),"Denso","Muy denso")))) -> Denso
D7: 2 | E7: 0 - 3 | F7: 3 | G7: CL | H7: Arcilla de baja plasticidad | I7: 17 - 8 | J7: 13 | K7: 17.8 | L7: =AG7 -> 7.8 | M7: =((1/((F7*K7)/100))^0.5) -> 1.3684514 | N7: =M7*L7 -> 10.673921 | O7: =((L7/(17+(24*((K7*F7)/100))))^0.5) -> 0.51147288 | P7: =IF(O7<0.15,"Muy suelto",IF(AND(O7>0.15,O7<0.5),"Suelto",IF(AND(O7>0.5,O7<0.7),"Medianamente denso",IF(AND(O7>0.7,O7<0.85),"Denso","Muy denso")))) -> Medianamente denso | U7: 2 | V7: 0 - 3 | W7: =3-0 -> 3 | X7: CL | Y7: Arcilla de baja plasticidad | Z7: 17 - 8 | AA7: =J7 -> 13 | AB7: =K7 -> 17.8 | AC7: 45 | AD7: 1 | AE7: 1 | AF7: 0.8 | AG7: =(AA7*AC7*AD7*AE7*AF7)/60 -> 7.8 | AH7: =((1/((W7*AB7)/100))^0.5) -> 1.3684514 | AI7: =AH7*AG7 -> 10.673921 | AJ7: =((AG7/(17+(24*((AB7*W7)/100))))^0.5) -> 0.51147288 | AK7: =IF(AJ7<0.15,"Muy suelto",IF(AND(AJ7>0.15,AJ7<0.5),"Suelto",IF(AND(AJ7>0.5,AJ7<0.7),"Medianamente denso",IF(AND(AJ7>0.7,AJ7<0.85),"Denso","Muy denso")))) -> Medianamente denso
E8: 4 - 5 | F8: 5 | G8: ML | H8: Limo arenoso de baja plasticidad | I8: 11 | J8: 11 | K8: 19 | L8: =AG8 -> 7.425 | M8: =((1/((F8*K8)/100))^0.5) -> 1.0259784 | N8: =M8*L8 -> 7.6178893 | O8: =((L8/(17+(24*((K8*F8)/100))))^0.5) -> 0.43192336 | P8: =IF(O8<0.15,"Muy suelto",IF(AND(O8>0.15,O8<0.5),"Suelto",IF(AND(O8>0.5,O8<0.7),"Medianamente denso",IF(AND(O8>0.7,O8<0.85),"Denso","Muy denso")))) -> Suelto | V8: 4 - 5 | W8: 5 | X8: ML | Y8: Limo arenoso de baja plasticidad | Z8: 11 | AA8: =J8 -> 11 | AB8: =K8 -> 19 | AC8: 45 | AD8: 1 | AE8: 1 | AF8: 0.9 | AG8: =(AA8*AC8*AD8*AE8*AF8)/60 -> 7.425 | AH8: =((1/((W8*AB8)/100))^0.5) -> 1.0259784 | AI8: =AH8*AG8 -> 7.6178893 | AJ8: =((AG8/(17+(24*((AB8*W8)/100))))^0.5) -> 0.43192336 | AK8: =IF(AJ8<0.15,"Muy suelto",IF(AND(AJ8>0.15,AJ8<0.5),"Suelto",IF(AND(AJ8>0.5,AJ8<0.7),"Medianamente denso",IF(AND(AJ8>0.7,AJ8<0.85),"Denso","Muy denso")))) -> Suelto
E9: 5 - 7 | F9: 7 | G9: ML | H9: Limo arenoso de baja plasticidad | I9: >30 | J9: 41 | K9: 19 | L9: =AG9 -> 30.75 | M9: =((1/((F9*K9)/100))^0.5) -> 0.86710997 | N9: =M9*L9 -> 26.663632 | O9: =((L9/(17+(24*((K9*F9)/100))))^0.5) -> 0.79282865 | P9: =IF(O9<0.15,"Muy suelto",IF(AND(O9>0.15,O9<0.5),"Suelto",IF(AND(O9>0.5,O9<0.7),"Medianamente denso",IF(AND(O9>0.7,O9<0.85),"Denso","Muy denso")))) -> Denso | V9: 5 - 7 | W9: 7 | X9: ML | Y9: Limo arenoso de baja plasticidad | Z9: >30 | AA9: =J9 -> 41 | AB9: =K9 -> 19 | AC9: 45 | AD9: 1 | AE9: 1 | AF9: 1 | AG9: =(AA9*AC9*AD9*AE9*AF9)/60 -> 30.75 | AH9: =((1/((W9*AB9)/100))^0.5) -> 0.86710997 | AI9: =AH9*AG9 -> 26.663632 | AJ9: =((AG9/(17+(24*((AB9*W9)/100))))^0.5) -> 0.79282865 | AK9: =IF(AJ9<0.15,"Muy suelto",IF(AND(AJ9>0.15,AJ9<0.5),"Suelto",IF(AND(AJ9>0.5,AJ9<0.7),"Medianamente denso",IF(AND(AJ9>0.7,AJ9<0.85),"Denso","Muy denso")))) -> Denso
D10: 3 | E10: 0 - 2 | F10: 2 | G10: ML | H10: Limo arenoso de baja plasticidad | I10: >30 | J10: 32 | K10: 17.8 | L10: =AG10 -> 19.2 | M10: =((1/((F10*K10)/100))^0.5) -> 1.6760038 | N10: =M10*L10 -> 32.179273 | O10: =((L10/(17+(24*((K10*F10)/100))))^0.5) -> 0.86697418 | P10: =IF(O10<0.15,"Muy suelto",IF(AND(O10>0.15,O10<0.5),"Suelto",IF(AND(O10>0.5,O10<0.7),"Medianamente denso",IF(AND(O10>0.7,O10<0.85),"Denso","Muy denso")))) -> Muy denso | U10: 3 | V10: 0 - 2 | W10: =2-0 -> 2 | X10: ML | Y10: Limo arenoso de baja plasticidad | Z10: >30 | AA10: =J10 -> 32 | AB10: =K10 -> 17.8 | AC10: 45 | AD10: 1 | AE10: 1 | AF10: 0.8 | AG10: =(AA10*AC10*AD10*AE10*AF10)/60 -> 19.2 | AH10: =((1/((W10*AB10)/100))^0.5) -> 1.6760038 | AI10: =AH10*AG10 -> 32.179273 | AJ10: =((AG10/(17+(24*((AB10*W10)/100))))^0.5) -> 0.86697418 | AK10: =IF(AJ10<0.15,"Muy suelto",IF(AND(AJ10>0.15,AJ10<0.5),"Suelto",IF(AND(AJ10>0.5,AJ10<0.7),"Medianamente denso",IF(AND(AJ10>0.7,AJ10<0.85),"Denso","Muy denso")))) -> Muy denso
E11: 3 - 4 | F11: 4 | G11: CL | H11: Arcilla de baja plasticidad | I11: >30 | J11: 36 | K11: 17.8 | L11: =AG11 -> 21.6 | M11: =((1/((F11*K11)/100))^0.5) -> 1.1851137 | N11: =M11*L11 -> 25.598455 | O11: =((L11/(17+(24*((K11*F11)/100))))^0.5) -> 0.79602391 | P11: =IF(O11<0.15,"Muy suelto",IF(AND(O11>0.15,O11<0.5),"Suelto",IF(AND(O11>0.5,O11<0.7),"Medianamente denso",IF(AND(O11>0.7,O11<0.85),"Denso","Muy denso")))) -> Denso | V11: 3 - 4 | W11: 4 | X11: CL | Y11: Arcilla de baja plasticidad | Z11: >30 | AA11: =J11 -> 36 | AB11: =K11 -> 17.8 | AC11: 45 | AD11: 1 | AE11: 1 | AF11: 0.8 | AG11: =(AA11*AC11*AD11*AE11*AF11)/60 -> 21.6 | AH11: =((1/((W11*AB11)/100))^0.5) -> 1.1851137 | AI11: =AH11*AG11 -> 25.598455 | AJ11: =((AG11/(17+(24*((AB11*W11)/100))))^0.5) -> 0.79602391 | AK11: =IF(AJ11<0.15,"Muy suelto",IF(AND(AJ11>0.15,AJ11<0.5),"Suelto",IF(AND(AJ11>0.5,AJ11<0.7),"Medianamente denso",IF(AND(AJ11>0.7,AJ11<0.85),"Denso","Muy denso")))) -> Denso
E12: 4 - 7 | F12: 7 | G12: ML | H12: Limo arenoso de baja plasticidad | I12: >30 | J12: 45 | K12: 19 | L12: =AG12 -> 30.375 | M12: =((1/((F12*K12)/100))^0.5) -> 0.86710997 | N12: =M12*L12 -> 26.338465 | O12: =((L12/(17+(24*((K12*F12)/100))))^0.5) -> 0.7879795 | P12: =IF(O12<0.15,"Muy suelto",IF(AND(O12>0.15,O12<0.5),"Suelto",IF(AND(O12>0.5,O12<0.7),"Medianamente denso",IF(AND(O12>0.7,O12<0.85),"Denso","Muy denso")))) -> Denso | V12: 4 - 7 | W12: 7 | X12: ML | Y12: Limo arenoso de baja plasticidad | Z12: >30 | AA12: =J12 -> 45 | AB12: =K12 -> 19 | AC12: 45 | AD12: 1 | AE12: 1 | AF12: 0.9 | AG12: =(AA12*AC12*AD12*AE12*AF12)/60 -> 30.375 | AH12: =((1/((W12*AB12)/100))^0.5) -> 0.86710997 | AI12: =AH12*AG12 -> 26.338465 | AJ12: =((AG12/(17+(24*((AB12*W12)/100))))^0.5) -> 0.7879795 | AK12: =IF(AJ12<0.15,"Muy suelto",IF(AND(AJ12>0.15,AJ12<0.5),"Suelto",IF(AND(AJ12>0.5,AJ12<0.7),"Medianamente denso",IF(AND(AJ12>0.7,AJ12<0.85),"Denso","Muy denso")))) -> Denso
B14: 2010 | C14: Vivienda Familiar de 2 plantas | D14: 1 | E14: 0 - 2 | F14: 2 | G14: ML | H14: Limo arenoso de baja plasticidad | I14: 26-17 | J14: 22 | K14: 17.8 | L14: =AG14 -> 13.2 | M14: =((1/((F14*K14)/100))^0.5) -> 1.6760038 | N14: =M14*L14 -> 22.12325 | O14: =((L14/(17+(24*((K14*F14)/100))))^0.5) -> 0.71885701 | P14: =IF(O14<0.15,"Muy suelto",IF(AND(O14>0.15,O14<0.5),"Suelto",IF(AND(O14>0.5,O14<0.7),"Medianamente denso",IF(AND(O14>0.7,O14<0.85),"Denso","Muy denso")))) -> Denso | T14: Vivienda Familiar de 2 plantas | U14: 1 | V14: 0 - 2 | W14: =2-0 -> 2 | X14: ML | Y14: Limo arenoso de baja plasticidad | Z14: 26-17 | AA14: =J14 -> 22 | AB14: =K14 -> 17.8 | AC14: 45 | AD14: 1 | AE14: 1 | AF14: 0.8 | AG14: =(AA14*AC14*AD14*AE14*AF14)/60 -> 13.2 | AH14: =((1/((W14*AB14)/100))^0.5) -> 1.6760038 | AI14: =AH14*AG14 -> 22.12325 | AJ14: =((AG14/(17+(24*((AB14*W14)/100))))^0.5) -> 0.71885701 | AK14: =IF(AJ14<0.15,"Muy suelto",IF(AND(AJ14>0.15,AJ14<0.5),"Suelto",IF(AND(AJ14>0.5,AJ14<0.7),"Medianamente denso",IF(AND(AJ14>0.7,AJ14<0.85),"Denso","Muy denso")))) -> Denso
E15: 3 - 4 | F15: 4 | G15: SM | H15: Arena limosa no plástica | I15: 19-20 | J15: 20 | K15: 17.8 | L15: =AG15 -> 12 | M15: =((1/((F15*K15)/100))^0.5) -> 1.1851137 | N15: =M15*L15 -> 14.221364 | O15: =((L15/(17+(24*((K15*F15)/100))))^0.5) -> 0.59332119 | P15: =IF(O15<0.15,"Muy suelto",IF(AND(O15>0.15,O15<0.5),"Suelto",IF(AND(O15>0.5,O15<0.7),"Medianamente denso",IF(AND(O15>0.7,O15<0.85),"Denso","Muy denso")))) -> Medianamente denso | V15: 3 - 4 | W15: 4 | X15: SM | Y15: Arena limosa no plástica | Z15: 19-20 | AA15: =J15 -> 20 | AB15: =K15 -> 17.8 | AC15: 45 | AD15: 1 | AE15: 1 | AF15: 0.8 | AG15: =(AA15*AC15*AD15*AE15*AF15)/60 -> 12 | AH15: =((1/((W15*AB15)/100))^0.5) -> 1.1851137 | AI15: =AH15*AG15 -> 14.221364 | AJ15: =((AG15/(17+(24*((AB15*W15)/100))))^0.5) -> 0.59332119 | AK15: =IF(AJ15<0.15,"Muy suelto",IF(AND(AJ15>0.15,AJ15<0.5),"Suelto",IF(AND(AJ15>0.5,AJ15<0.7),"Medianamente denso",IF(AND(AJ15>0.7,AJ15<0.85),"Denso","Muy denso")))) -> Medianamente denso
E16: 4 - 6 | F16: 6 | G16: SM | H16: Arena limosa no plástica | I16: 46-44 | J16: =(46+44)/2 -> 45 | K16: 19 | L16: =AG16 -> 30.375 | M16: =((1/((F16*K16)/100))^0.5) -> 0.93658581 | N16: =M16*L16 -> 28.448794 | O16: =((L16/(17+(24*((K16*F16)/100))))^0.5) -> 0.82748928 | P16: =IF(O16<0.15,"Muy suelto",IF(AND(O16>0.15,O16<0.5),"Suelto",IF(AND(O16>0.5,O16<0.7),"Medianamente denso",IF(AND(O16>0.7,O16<0.85),"Denso","Muy denso")))) -> Denso | V16: 4 - 6 | W16: 6 | X16: SM | Y16: Arena limosa no plástica | Z16: 46-44 | AA16: =J16 -> 45 | AB16: =K16 -> 19 | AC16: 45 | AD16: 1 | AE16: 1 | AF16: 0.9 | AG16: =(AA16*AC16*AD16*AE16*AF16)/60 -> 30.375 | AH16: =((1/((W16*AB16)/100))^0.5) -> 0.93658581 | AI16: =AH16*AG16 -> 28.448794 | AJ16: =((AG16/(17+(24*((AB16*W16)/100))))^0.5) -> 0.82748928 | AK16: =IF(AJ16<0.15,"Muy suelto",IF(AND(AJ16>0.15,AJ16<0.5),"Suelto",IF(AND(AJ16>0.5,AJ16<0.7),"Medianamente denso",IF(AND(AJ16>0.7,AJ16<0.85),"Denso","Muy denso")))) -> Denso
D17: 2 | E17: 0 -2,50 | F17: 2.5 | G17: SM | H17: Arena limosa no plástica | I17: 35-24 | J17: 30 | K17: 17.8 | L17: =AG17 -> 18 | M17: =((1/((F17*K17)/100))^0.5) -> 1.4990634 | N17: =M17*L17 -> 26.983141 | O17: =((L17/(17+(24*((K17*F17)/100))))^0.5) -> 0.806405 | P17: =IF(O17<0.15,"Muy suelto",IF(AND(O17>0.15,O17<0.5),"Suelto",IF(AND(O17>0.5,O17<0.7),"Medianamente denso",IF(AND(O17>0.7,O17<0.85),"Denso","Muy denso")))) -> Denso | U17: 2 | V17: 0 -2,50 | W17: =2.5-0 -> 2.5 | X17: SM | Y17: Arena limosa no plástica | Z17: 35-24 | AA17: =J17 -> 30 | AB17: =K17 -> 17.8 | AC17: 45 | AD17: 1 | AE17: 1 | AF17: 0.8 | AG17: =(AA17*AC17*AD17*AE17*AF17)/60 -> 18 | AH17: =((1/((W17*AB17)/100))^0.5) -> 1.4990634 | AI17: =AH17*AG17 -> 26.983141 | AJ17: =((AG17/(17+(24*((AB17*W17)/100))))^0.5) -> 0.806405 | AK17: =IF(AJ17<0.15,"Muy suelto",IF(AND(AJ17>0.15,AJ17<0.5),"Suelto",IF(AND(AJ17>0.5,AJ17<0.7),"Medianamente denso",IF(AND(AJ17>0.7,AJ17<0.85),"Denso","Muy denso")))) -> Denso
E18: 2,50 - 3,50 | F18: 3.5 | G18: SM | H18: Arena limosa no plástica | I18: 18 | J18: 18 | K18: 17.8 | L18: =AG18 -> 10.8 | M18: =((1/((F18*K18)/100))^0.5) -> 1.2669398 | N18: =M18*L18 -> 13.68295 | O18: =((L18/(17+(24*((K18*F18)/100))))^0.5) -> 0.5813837 | P18: =IF(O18<0.15,"Muy suelto",IF(AND(O18>0.15,O18<0.5),"Suelto",IF(AND(O18>0.5,O18<0.7),"Medianamente denso",IF(AND(O18>0.7,O18<0.85),"Denso","Muy denso")))) -> Medianamente denso | V18: 2,50 - 3,50 | W18: 3.5 | X18: SM | Y18: Arena limosa no plástica | Z18: 18 | AA18: =J18 -> 18 | AB18: =K18 -> 17.8 | AC18: 45 | AD18: 1 | AE18: 1 | AF18: 0.8 | AG18: =(AA18*AC18*AD18*AE18*AF18)/60 -> 10.8 | AH18: =((1/((W18*AB18)/100))^0.5) -> 1.2669398 | AI18: =AH18*AG18 -> 13.68295 | AJ18: =((AG18/(17+(24*((AB18*W18)/100))))^0.5) -> 0.5813837 | AK18: =IF(AJ18<0.15,"Muy suelto",IF(AND(AJ18>0.15,AJ18<0.5),"Suelto",IF(AND(AJ18>0.5,AJ18<0.7),"Medianamente denso",IF(AND(AJ18>0.7,AJ18<0.85),"Denso","Muy denso")))) -> Medianamente denso
E19: 3,50 - 5,50 | F19: 5.5 | G19: SM | H19: Arena limosa no plástica | I19: 21-42 | J19: 32 | K19: 19 | L19: =AG19 -> 21.6 | M19: =((1/((F19*K19)/100))^0.5) -> 0.97823198 | N19: =M19*L19 -> 21.129811 | O19: =((L19/(17+(24*((K19*F19)/100))))^0.5) -> 0.71645515 | P19: =IF(O19<0.15,"Muy suelto",IF(AND(O19>0.15,O19<0.5),"Suelto",IF(AND(O19>0.5,O19<0.7),"Medianamente denso",IF(AND(O19>0.7,O19<0.85),"Denso","Muy denso")))) -> Denso | V19: 3,50 - 5,50 | W19: 5.5 | X19: SM | Y19: Arena limosa no plástica | Z19: 21-42 | AA19: =J19 -> 32 | AB19: =K19 -> 19 | AC19: 45 | AD19: 1 | AE19: 1 | AF19: 0.9 | AG19: =(AA19*AC19*AD19*AE19*AF19)/60 -> 21.6 | AH19: =((1/((W19*AB19)/100))^0.5) -> 0.97823198 | AI19: =AH19*AG19 -> 21.129811 | AJ19: =((AG19/(17+(24*((AB19*W19)/100))))^0.5) -> 0.71645515 | AK19: =IF(AJ19<0.15,"Muy suelto",IF(AND(AJ19>0.15,AJ19<0.5),"Suelto",IF(AND(AJ19>0.5,AJ19<0.7),"Medianamente denso",IF(AND(AJ19>0.7,AJ19<0.85),"Denso","Muy denso")))) -> Denso
E20: 5,50 - 6,50 | F20: 6.5 | G20: SM | H20: Arena limosa no plástica | I20: 52 | J20: 52 | K20: 19 | L20: =AG20 -> 39 | M20: =((1/((F20*K20)/100))^0.5) -> 0.89984254 | N20: =M20*L20 -> 35.093859 | O20: =((L20/(17+(24*((K20*F20)/100))))^0.5) -> 0.9144354 | P20: =IF(O20<0.15,"Muy suelto",IF(AND(O20>0.15,O20<0.5),"Suelto",IF(AND(O20>0.5,O20<0.7),"Medianamente denso",IF(AND(O20>0.7,O20<0.85),"Denso","Muy denso")))) -> Muy denso | V20: 5,50 - 6,50 | W20: 6.5 | X20: SM | Y20: Arena limosa no plástica | Z20: 52 | AA20: =J20 -> 52 | AB20: =K20 -> 19 | AC20: 45 | AD20: 1 | AE20: 1 | AF20: 1 | AG20: =(AA20*AC20*AD20*AE20*AF20)/60 -> 39 | AH20: =((1/((W20*AB20)/100))^0.5) -> 0.89984254 | AI20: =AH20*AG20 -> 35.093859 | AJ20: =((AG20/(17+(24*((AB20*W20)/100))))^0.5) -> 0.9144354 | AK20: =IF(AJ20<0.15,"Muy suelto",IF(AND(AJ20>0.15,AJ20<0.5),"Suelto",IF(AND(AJ20>0.5,AJ20<0.7),"Medianamente denso",IF(AND(AJ20>0.7,AJ20<0.85),"Denso","Muy denso")))) -> Muy denso
C26: Variación de hH
C27: País | D27: Tipo de martinete | G27: Liberación del martinete | I27: hH
C28: Japón | D28: Toroide | G28: Caída libra | I28: 78
D29: Toroide | G29: Cuerda y polea | I29: 67
C30: Estados Unidos | D30: De seguridad | G30: Cuerda y polea | I30: 60
D31: Toroide | G31: Cuerda y polea | I31: 45
C32: Argentina | D32: Toroide | G32: Cuerda y polea | I32: 45
C33: China | D33: Toroide | G33: Caída libra | I33: 60
D34: Toroide | G34: Cuerda y polea | I34: 50
C36: Variación de hB | H36: Variación hR | M36: Dr (%) | P36: Descripción
C37: Diámetro (cm) | D37: hB | H37: Longitud de la barra (m) | I37: hR | M37: ="0 - 15" -> 0 - 15 | P37: Muy suelto
C38: ="60 - 120" -> 60 - 120 | D38: 1 | H38: > 1.00 | I38: 1 | M38: ="15 - 50" -> 15 - 50 | P38: Suelto
C39: 150 | D39: 1.05 | H39: ="6 - 10" -> 6 - 10 | I39: 0.95 | M39: ="50 - 70" -> 50 - 70 | P39: Medianamente denso
C40: 200 | D40: 1.15 | H40: ="4 - 6" -> 4 - 6 | I40: 0.85 | M40: ="70 - 85" -> 70 - 85 | P40: Denso
H41: ="0 - 4" -> 0 - 4 | I41: 0.75 | M41: ="85 - 100" -> 85 - 100 | P41: Muy denso
C43: Variación de hS
C44: Variable | G44: hS
C45: Muestreador estándar | G45: 1
C46: Con recubrimiento para arena y arcilla densas | G46: 0.8
C47: Con recubrimiento para arena suelta | G47: 0.9

Sheet Hoja1
A3: Variación de hH, hB, hS, hR
B5: Variación de hH
B6: País | D6: Tipo de martinete | F6: Liberación del martinete | I6: hH
B7: Japón | D7: Toroide | F7: Caída libra | I7: 78 | K7: Variación hR | O7: Dr (%) | P7: Descripción
D8: Toroide | F8: Cuerda y polea | I8: 67 | K8: Longitud de la barra (m) | L8: hR | O8: ="0 - 15" -> 0 - 15 | P8: Muy suelto
B9: Estados Unidos | D9: De seguridad | F9: Cuerda y polea | I9: 60 | K9: > 1.00 | L9: 1 | O9: ="15 - 50" -> 15 - 50 | P9: Suelto
D10: Toroide | F10: Cuerda y polea | I10: 45 | K10: ="6 - 10" -> 6 - 10 | L10: 0.95 | O10: ="50 - 70" -> 50 - 70 | P10: Medianamente denso
B11: Argentina | D11: Toroide | F11: Cuerda y polea | I11: 45 | K11: ="4 - 6" -> 4 - 6 | L11: 0.85 | O11: ="70 - 85" -> 70 - 85 | P11: Denso
B12: China | D12: Toroide | F12: Caída libra | I12: 60 | K12: ="0 - 4" -> 0 - 4 | L12: 0.75 | O12: ="85 - 100" -> 85 - 100 | P12: Muy denso
D13: Toroide | F13: Cuerda y polea | I13: 50
C15: Variación de hS | K15: Variación de hB
C16: Variable | H16: hS | K16: Diámetro (cm) | L16: hB
C17: Muestreador estándar | H17: 1 | K17: ="60 - 120" -> 60 - 120 | L17: 1
C18: Con recubrimiento para arena y arcilla densas | H18: 0.8 | K18: 150 | L18: 1.05
C19: Con recubrimiento para arena suelta | H19: 0.9 | K19: 200 | L19: 1.15

Sheet FACTOR "M"
B1: POR: GABRIELA CATALINA CHIRIBOGA TRUJILLO
B3: AÑO | C3: PROYECTO | D3: SONDEO No. | E3: PROFUNDIDAD | F3: SUELO | G3: DESCRIPCIÓN DEL SUELO | H3: SPT | I3: DENSIDAD RELATIVA | J3: TRABAJABILIDAD | K3: FACTOR "M"
B5: 2009 | C5: Torre de Transmisión Eléctrica Tababela | D5: 1 | E5: 0 - 4 | F5: CL | G5: Arcilla de baja plasticidad | H5: >30 | I5: ='DENSIDAD RELATIVA SUELO'!P5 -> Denso | J5: =IF(I5="Muy suelto","Muy Fácil",IF(I5="Suelto","Fácil",IF(I5="Medianamente denso","Medio",IF(I5="Denso","Difícil",IF(I5="Muy denso","Muy Difícil"))))) -> Difícil | K5: =IF(J5="Muy Fácil","100",IF(J5="Fácil","90",IF(J5="Medio","80",IF(J5="Difícil","70",IF(J5="Muy Difícil","60"))))) -> 70 | L5: %
E6: 4 - 7 | F6: ML | G6: Limo arenoso de baja plasticidad | H6: >30 | I6: ='DENSIDAD RELATIVA SUELO'!P6 -> Denso | J6: =IF(I6="Muy suelto","Muy Fácil",IF(I6="Suelto","Fácil",IF(I6="Medianamente denso","Medio",IF(I6="Denso","Difícil",IF(I6="Muy denso","Muy Difícil"))))) -> Difícil | K6: =IF(J6="Muy Fácil","100",IF(J6="Fácil","90",IF(J6="Medio","80",IF(J6="Difícil","70",IF(J6="Muy Difícil","60"))))) -> 70 | L6: %
D7: 2 | E7: 0 - 3 | F7: CL | G7: Arcilla de baja plasticidad | H7: 17 - 8 | I7: ='DENSIDAD RELATIVA SUELO'!P7 -> Medianamente denso | J7: =IF(I7="Muy suelto","Muy Fácil",IF(I7="Suelto","Fácil",IF(I7="Medianamente denso","Medio",IF(I7="Denso","Difícil",IF(I7="Muy denso","Muy Difícil"))))) -> Medio | K7: =IF(J7="Muy Fácil","100",IF(J7="Fácil","90",IF(J7="Medio","80",IF(J7="Difícil","70",IF(J7="Muy Difícil","60"))))) -> 80 | L7: %
E8: 4 - 5 | F8: ML | G8: Limo arenoso de baja plasticidad | H8: 11 | I8: ='DENSIDAD RELATIVA SUELO'!P8 -> Suelto | J8: =IF(I8="Muy suelto","Muy Fácil",IF(I8="Suelto","Fácil",IF(I8="Medianamente denso","Medio",IF(I8="Denso","Difícil",IF(I8="Muy denso","Muy Difícil"))))) -> Fácil | K8: =IF(J8="Muy Fácil","100",IF(J8="Fácil","90",IF(J8="Medio","80",IF(J8="Difícil","70",IF(J8="Muy Difícil","60"))))) -> 90 | L8: %
E9: 5 - 7 | F9: ML | G9: Limo arenoso de baja plasticidad | H9: >30 | I9: ='DENSIDAD RELATIVA SUELO'!P9 -> Denso | J9: =IF(I9="Muy suelto","Muy Fácil",IF(I9="Suelto","Fácil",IF(I9="Medianamente denso","Medio",IF(I9="Denso","Difícil",IF(I9="Muy denso","Muy Difícil"))))) -> Difícil | K9: =IF(J9="Muy Fácil","100",IF(J9="Fácil","90",IF(J9="Medio","80",IF(J9="Difícil","70",IF(J9="Muy Difícil","60"))))) -> 70 | L9: %
D10: 3 | E10: 0 - 2 | F10: ML | G10: Limo arenoso de baja plasticidad | H10: >30 | I10: ='DENSIDAD RELATIVA SUELO'!P10 -> Muy denso | J10: =IF(I10="Muy suelto","Muy Fácil",IF(I10="Suelto","Fácil",IF(I10="Medianamente denso","Medio",IF(I10="Denso","Difícil",IF(I10="Muy denso","Muy Difícil"))))) -> Muy Difícil | K10: =IF(J10="Muy Fácil","100",IF(J10="Fácil","90",IF(J10="Medio","80",IF(J10="Difícil","70",IF(J10="Muy Difícil","60"))))) -> 60 | L10: %
E11: 3 - 4 | F11: CL | G11: Arcilla de baja plasticidad | H11: >30 | I11: ='DENSIDAD RELATIVA SUELO'!P11 -> Denso | J11: =IF(I11="Muy suelto","Muy Fácil",IF(I11="Suelto","Fácil",IF(I11="Medianamente denso","Medio",IF(I11="Denso","Difícil",IF(I11="Muy denso","Muy Difícil"))))) -> Difícil | K11: =IF(J11="Muy Fácil","100",IF(J11="Fácil","90",IF(J11="Medio","80",IF(J11="Difícil","70",IF(J11="Muy Difícil","60"))))) -> 70 | L11: %
E12: 4 - 7 | F12: ML | G12: Limo arenoso de baja plasticidad | H12: >30 | I12: ='DENSIDAD RELATIVA SUELO'!P12 -> Denso | J12: =IF(I12="Muy suelto","Muy Fácil",IF(I12="Suelto","Fácil",IF(I12="Medianamente denso","Medio",IF(I12="Denso","Difícil",IF(I12="Muy denso","Muy Difícil"))))) -> Difícil | K12: =IF(J12="Muy Fácil","100",IF(J12="Fácil","90",IF(J12="Medio","80",IF(J12="Difícil","70",IF(J12="Muy Difícil","60"))))) -> 70 | L12: %
B14: 2010 | C14: Vivienda Familiar de 2 plantas | D14: 1 | E14: 0 - 2 | F14: ML | G14: Limo arenoso de baja plasticidad | H14: 26-17 | I14: ='DENSIDAD RELATIVA SUELO'!P14 -> Denso | J14: =IF(I14="Muy suelto","Muy Fácil",IF(I14="Suelto","Fácil",IF(I14="Medianamente denso","Medio",IF(I14="Denso","Difícil",IF(I14="Muy denso","Muy Difícil"))))) -> Difícil | K14: =IF(J14="Muy Fácil","100",IF(J14="Fácil","90",IF(J14="Medio","80",IF(J14="Difícil","70",IF(J14="Muy Difícil","60"))))) -> 70 | L14: %
E15: 3 - 4 | F15: SM | G15: Arena limosa no plástica | H15: 19-20 | I15: ='DENSIDAD RELATIVA SUELO'!P15 -> Medianamente denso | J15: =IF(I15="Muy suelto","Muy Fácil",IF(I15="Suelto","Fácil",IF(I15="Medianamente denso","Medio",IF(I15="Denso","Difícil",IF(I15="Muy denso","Muy Difícil"))))) -> Medio | K15: =IF(J15="Muy Fácil","100",IF(J15="Fácil","90",IF(J15="Medio","80",IF(J15="Difícil","70",IF(J15="Muy Difícil","60"))))) -> 80 | L15: %
E16: 4 - 6 | F16: SM | G16: Arena limosa no plástica | H16: 46-44 | I16: ='DENSIDAD RELATIVA SUELO'!P16 -> Denso | J16: =IF(I16="Muy suelto","Muy Fácil",IF(I16="Suelto","Fácil",IF(I16="Medianamente denso","Medio",IF(I16="Denso","Difícil",IF(I16="Muy denso","Muy Difícil"))))) -> Difícil | K16: =IF(J16="Muy Fácil","100",IF(J16="Fácil","90",IF(J16="Medio","80",IF(J16="Difícil","70",IF(J16="Muy Difícil","60"))))) -> 70 | L16: %
D17: 2 | E17: 0 -2,50 | F17: SM | G17: Arena limosa no plástica | H17: 35-24 | I17: ='DENSIDAD RELATIVA SUELO'!P17 -> Denso | J17: =IF(I17="Muy suelto","Muy Fácil",IF(I17="Suelto","Fácil",IF(I17="Medianamente denso","Medio",IF(I17="Denso","Difícil",IF(I17="Muy denso","Muy Difícil"))))) -> Difícil | K17: =IF(J17="Muy Fácil","100",IF(J17="Fácil","90",IF(J17="Medio","80",IF(J17="Difícil","70",IF(J17="Muy Difícil","60"))))) -> 70 | L17: %
E18: 2,50 - 3,50 | F18: SM | G18: Arena limosa no plástica | H18: 18 | I18: ='DENSIDAD RELATIVA SUELO'!P18 -> Medianamente denso | J18: =IF(I18="Muy suelto","Muy Fácil",IF(I18="Suelto","Fácil",IF(I18="Medianamente denso","Medio",IF(I18="Denso","Difícil",IF(I18="Muy denso","Muy Difícil"))))) -> Medio | K18: =IF(J18="Muy Fácil","100",IF(J18="Fácil","90",IF(J18="Medio","80",IF(J18="Difícil","70",IF(J18="Muy Difícil","60"))))) -> 80 | L18: %
E19: 3,50 - 5,50 | F19: SM | G19: Arena limosa no plástica | H19: 21-42 | I19: ='DENSIDAD RELATIVA SUELO'!P19 -> Denso | J19: =IF(I19="Muy suelto","Muy Fácil",IF(I19="Suelto","Fácil",IF(I19="Medianamente denso","Medio",IF(I19="Denso","Difícil",IF(I19="Muy denso","Muy Difícil"))))) -> Difícil | K19: =IF(J19="Muy Fácil","100",IF(J19="Fácil","90",IF(J19="Medio","80",IF(J19="Difícil","70",IF(J19="Muy Difícil","60"))))) -> 70 | L19: %
E20: 5,50 - 6,50 | F20: SM | G20: Arena limosa no plástica | H20: 52 | I20: ='DENSIDAD RELATIVA SUELO'!P20 -> Muy denso | J20: =IF(I20="Muy suelto","Muy Fácil",IF(I20="Suelto","Fácil",IF(I20="Medianamente denso","Medio",IF(I20="Denso","Difícil",IF(I20="Muy denso","Muy Difícil"))))) -> Muy Difícil | K20: =IF(J20="Muy Fácil","100",IF(J20="Fácil","90",IF(J20="Medio","80",IF(J20="Difícil","70",IF(J20="Muy Difícil","60"))))) -> 60 | L20: %

Sheet FACTOR M POR SUELO
B1: POR: GABRIELA CATALINA CHIRIBOGA TRUJILLO
B3: ARCILLA DE BAJA PLASTICIDAD
B4: AÑO | C4: PROYECTO | D4: SONDEO No. | E4: PROFUNDIDAD | F4: SUELO | G4: DESCRIPCIÓN DEL SUELO | H4: SPT | I4: DENSIDAD RELATIVA | J4: RESISTENCIA A LA COMPRESIÓN SIMPLE | K4: CONSISTENCIA | L4: TRABAJABILIDAD | M4: FACTOR "M"
B5: 2009 | C5: Torre de Transmisión Eléctrica Tababela | D5: 1 | E5: 0 - 4 | F5: CL | G5: Arcilla de baja plasticidad | H5: >30 | I5: - | J5: > 4.00 | K5: dura | L5: ='FACTOR "M"'!J5 -> Difícil | M5: ='FACTOR "M"'!K5 -> 70 | N5: % | P5: =M5/100 -> 0.7
D6: 2 | E6: 0 - 3 | F6: CL | G6: Arcilla de baja plasticidad | H6: 17 - 8 | I6: - | J6: 1.00 - 2.00 | K6: compacta | L6: ='FACTOR "M"'!J7 -> Medio | M6: ='FACTOR "M"'!K7 -> 80 | N6: % | P6: =M6/100 -> 0.8
D7: 3 | E7: 3 - 4 | F7: CL | G7: Arcilla de baja plasticidad | H7: >30 | I7: - | J7: > 4.00 | K7: dura | L7: ='FACTOR "M"'!J11 -> Difícil | M7: ='FACTOR "M"'!K11 -> 70 | N7: % | P7: =M7/100 -> 0.7
L8: PROMEDIO | M8: =P8*100 -> 73.333333 | N8: % | P8: =AVERAGE(P5:P7) -> 0.73333333
B11: LIMO ARENOSO DE BAJA PLASTICIDAD
B12: AÑO | C12: PROYECTO | D12: SONDEO No. | E12: PROFUNDIDAD | F12: SUELO | G12: DESCRIPCIÓN DEL SUELO | H12: SPT | I12: DENSIDAD RELATIVA | J12: RESISTENCIA A LA COMPRESIÓN SIMPLE | K12: CONSISTENCIA | L12: TRABAJABILIDAD | M12: FACTOR "M"
B13: 2009 | C13: Torre de Transmisión Eléctrica Tababela | D13: 1 | E13: 4 - 7 | F13: ML | G13: Limo arenoso de baja plasticidad | H13: >30 | I13: medianamente densa | J13: - | L13: ='FACTOR "M"'!J6 -> Difícil | M13: ='FACTOR "M"'!K6 -> 70 | N13: % | P13: =M13/100 -> 0.7
D14: 2 | E14: 4 - 5 | F14: ML | G14: Limo arenoso de baja plasticidad | H14: 11 | I14: medianamente densa | J14: - | L14: ='FACTOR "M"'!J8 -> Fácil | M14: ='FACTOR "M"'!K8 -> 90 | N14: % | P14: =M14/100 -> 0.9
E15: 5 - 7 | F15: ML | G15: Limo arenoso de baja plasticidad | H15: >30 | I15: densa | L15: ='FACTOR "M"'!J9 -> Difícil | M15: ='FACTOR "M"'!K9 -> 70 | N15: % | P15: =M15/100 -> 0.7
D16: 3 | E16: 0 - 2 | F16: ML | G16: Limo arenoso de baja plasticidad | H16: >30 | I16: densa | L16: ='FACTOR "M"'!J10 -> Muy Difícil | M16: ='FACTOR "M"'!K10 -> 60 | N16: % | P16: =M16/100 -> 0.6
E17: 4 - 7 | F17: ML | G17: Limo arenoso de baja plasticidad | H17: >30 | I17: densa | J17: - | L17: ='FACTOR "M"'!J12 -> Difícil | M17: ='FACTOR "M"'!K12 -> 70 | N17: % | P17: =M17/100 -> 0.7
B18: 2010 | C18: Vivienda Familiar | D18: 1 | E18: 0 - 2 | F18: ML | G18: Limo arenoso de baja plasticidad | H18: 26-17 | I18: medianamente densa | J18: - | L18: ='FACTOR "M"'!J14 -> Difícil | M18: ='FACTOR "M"'!K14 -> 70 | N18: % | P18: =M18/100 -> 0.7
L19: PROMEDIO | M19: =P19*100 -> 71.666667 | N19: % | P19: =AVERAGE(P13:P18) -> 0.71666667
B22: ARENA LIMOSA NO PLÁSTICA
B23: AÑO | C23: PROYECTO | D23: SONDEO No. | E23: PROFUNDIDAD | F23: SUELO | G23: DESCRIPCIÓN DEL SUELO | H23: SPT | I23: DENSIDAD RELATIVA | J23: RESISTENCIA A LA COMPRESIÓN SIMPLE | K23: CONSISTENCIA | L23: TRABAJABILIDAD | M23: FACTOR "M"
B24: 2010 | C24: Vivienda Familiar | D24: 1 | E24: 3 - 4 | F24: SM | G24: Arena limosa no plástica | H24: 19-20 | I24: medianamente densa | L24: ='FACTOR "M"'!J15 -> Medio | M24: ='FACTOR "M"'!K15 -> 80 | N24: % | P24: =M24/100 -> 0.8
E25: 4 - 6 | F25: SM | G25: Arena limosa no plástica | H25: 46-44 | I25: densa | L25: ='FACTOR "M"'!J16 -> Difícil | M25: ='FACTOR "M"'!K16 -> 70 | N25: % | P25: =M25/100 -> 0.7
D26: 2 | E26: 0 -2,50 | F26: SM | G26: Arena limosa no plástica | H26: 35-24 | I26: medianamente densa | L26: ='FACTOR "M"'!J17 -> Difícil | M26: ='FACTOR "M"'!K17 -> 70 | N26: % | P26: =M26/100 -> 0.7
E27: 2,50 - 3,50 | F27: SM | G27: Arena limosa no plástica | H27: 18 | I27: densa | L27: ='FACTOR "M"'!J18 -> Medio | M27: ='FACTOR "M"'!K18 -> 80 | N27: % | P27: =M27/100 -> 0.8
E28: 3,50 - 5,50 | F28: SM | G28: Arena limosa no plástica | H28: 21-42 | I28: muy densa | L28: ='FACTOR "M"'!J19 -> Difícil | M28: ='FACTOR "M"'!K19 -> 70 | N28: % | P28: =M28/100 -> 0.7
E29: 5,50 - 6,50 | F29: SM | G29: Arena limosa no plástica | H29: 52 | I29: muy densa | L29: ='FACTOR "M"'!J20 -> Muy Difícil | M29: ='FACTOR "M"'!K20 -> 60 | N29: % | P29: =M29/100 -> 0.6
L30: PROMEDIO | M30: =P30*100 -> 71.666667 | N30: % | P30: =AVERAGE(P24:P29) -> 0.71666667
G35: Tipo de Suelo | L35: Factor (m)
G36: Arcilla de baja plasticidad | L36: =P8 -> 0.73333333
G37: Limo arenoso de baja plasticidad | L37: =P19 -> 0.71666667
G38: Arena limosa no plástica | L38: =P30 -> 0.71666667

Sheet FACTOR M POR ESTRATIGRAFÍIA
B1: POR: GABRIELA CATALINA CHIRIBOGA TRUJILLO
B3: ESTRATO | C3: PROFUNDIDAD | D3: SUCS | E3: PESO UNITARIO | F3: COHESIÓN ton/m2 | G3: ÁNGULO DE FRICCIÓN | H3: N60 | I3: (N1)60 | J3: DESCRIPCIÓN DEL SUELO | K3: Dr (%) | L3: TRABAJABILIDAD | M3: FACTOR M
B4: 1 | C4: 0 - 4 | D4: CL , ML | E4: =('DENSIDAD RELATIVA SUELO'!K5+'DENSIDAD RELATIVA SUELO'!K7+'DENSIDAD RELATIVA SUELO'!K8+'DENSIDAD RELATIVA SUELO'!K10+'DENSIDAD RELATIVA SUELO'!K11+'DENSIDAD RELATIVA SUELO'!K14+'DENSIDAD RELATIVA SUELO'!K15+'DENSIDAD RELATIVA SUELO'!K17+'DENSIDAD RELATIVA SUELO'!K18)/9 -> 17.933333 | F4: 5 | G4: 30° | H4: =('DENSIDAD RELATIVA SUELO'!L5+'DENSIDAD RELATIVA SUELO'!L7+'DENSIDAD RELATIVA SUELO'!L8+'DENSIDAD RELATIVA SUELO'!L10+'DENSIDAD RELATIVA SUELO'!L11+'DENSIDAD RELATIVA SUELO'!L14+'DENSIDAD RELATIVA SUELO'!L15+'DENSIDAD RELATIVA SUELO'!L17+'DENSIDAD RELATIVA SUELO'!L18)/9 -> 14.425 | I4: =('DENSIDAD RELATIVA SUELO'!N5+'DENSIDAD RELATIVA SUELO'!N7+'DENSIDAD RELATIVA SUELO'!N8+'DENSIDAD RELATIVA SUELO'!N10+'DENSIDAD RELATIVA SUELO'!N11+'DENSIDAD RELATIVA SUELO'!N14+'DENSIDAD RELATIVA SUELO'!N15+'DENSIDAD RELATIVA SUELO'!N17+'DENSIDAD RELATIVA SUELO'!N18)/9 -> 19.616166 | J4: Limos y arcillas de baja plasticidad con consistencia media. | K4: =(('DENSIDAD RELATIVA SUELO'!O5+'DENSIDAD RELATIVA SUELO'!O7+'DENSIDAD RELATIVA SUELO'!O8+'DENSIDAD RELATIVA SUELO'!O10+'DENSIDAD RELATIVA SUELO'!O11+'DENSIDAD RELATIVA SUELO'!O14+'DENSIDAD RELATIVA SUELO'!O15+'DENSIDAD RELATIVA SUELO'!O17+'DENSIDAD RELATIVA SUELO'!O18)/9)*100 -> 67.427735 | L4: =IF(K4<15,"Muy fácil",IF(AND(K4>15,K4<50),"Fácil",IF(AND(K4>50,K4<70),"Medio",IF(AND(K4>70,K4<85),"Difícil","Muy difícil")))) -> Medio | M4: =IF(L4="Muy Fácil","100",IF(L4="Fácil","90",IF(L4="Medio","80",IF(L4="Difícil","70",IF(L4="Muy Difícil","60"))))) -> 80 | N4: % | P4: =M4/100 -> 0.8
B5: 2 | C5: ="4 - 7" -> 4 - 7 | D5: ML , SM | E5: =('DENSIDAD RELATIVA SUELO'!K6+'DENSIDAD RELATIVA SUELO'!K9+'DENSIDAD RELATIVA SUELO'!K12+'DENSIDAD RELATIVA SUELO'!K16+'DENSIDAD RELATIVA SUELO'!K19+'DENSIDAD RELATIVA SUELO'!K20)/6 -> 19 | F5: 8 | G5: 38° | H5: =('DENSIDAD RELATIVA SUELO'!L6+'DENSIDAD RELATIVA SUELO'!L9+'DENSIDAD RELATIVA SUELO'!L12+'DENSIDAD RELATIVA SUELO'!L16+'DENSIDAD RELATIVA SUELO'!L19+'DENSIDAD RELATIVA SUELO'!L20)/6 -> 30.6375 | I5: =('DENSIDAD RELATIVA SUELO'!N6+'DENSIDAD RELATIVA SUELO'!N9+'DENSIDAD RELATIVA SUELO'!N12+'DENSIDAD RELATIVA SUELO'!N16+'DENSIDAD RELATIVA SUELO'!N19+'DENSIDAD RELATIVA SUELO'!N20)/6 -> 27.530604 | J5: Arenas de grano fino no plásticas y limos de baja plasticidad con densidad dura. | K5: =(('DENSIDAD RELATIVA SUELO'!O6+'DENSIDAD RELATIVA SUELO'!O9+'DENSIDAD RELATIVA SUELO'!O12+'DENSIDAD RELATIVA SUELO'!O16+'DENSIDAD RELATIVA SUELO'!O19+'DENSIDAD RELATIVA SUELO'!O20)/6)*100 -> 80.741463 | L5: =IF(K5<15,"Muy fácil",IF(AND(K5>15,K5<50),"Fácil",IF(AND(K5>50,K5<70),"Medio",IF(AND(K5>70,K5<85),"Difícil","Muy difícil")))) -> Difícil | M5: =IF(L5="Muy Fácil","100",IF(L5="Fácil","90",IF(L5="Medio","80",IF(L5="Difícil","70",IF(L5="Muy Difícil","60"))))) -> 70 | N5: % | P5: =M5/100 -> 0.7

Sheet CÁLCULO EFICIENCIA 
B1: POR: GABRIELA CATALINA CHIRIBOGA TRUJILLO
B3: C Á L C U L O D E L A E F I C I E N C I A
B7: P O R T I P O D E S U E L O
B9: ARCILLA DE BAJA PLASTICIDAD
B10: Descripción | D10: Calificación | E10: Valor
B11: Eficiencia en tiempo | C11: Factor (i) | D11: Bueno | E11: =IF(D11="Utópico","1",IF(D11="Bueno ","0.83",IF(D11="Medio","0.67",IF(D11="Pobre","0.50")))) -> 0.83
B12: Operación | C12: Factor (o) | D12: Excelente | E12: =IF(D12="Excelente","0.95",IF(D12="Buena","0.85",IF(D12="Regular ","0.75",IF(D12="Mala","0.65")))) -> 0.95
B13: Administración | C13: Factor (a) | D13: Excelente | E13: =IF(D13="Excelente","0.93",IF(D13="Bueno","0.85",IF(D13="Regular - Bueno","0.75",IF(D13="Malo - Aceptable","0.65")))) -> 0.93
B14: Tipo de material | C14: Factor (m) | D14: Arcilla de baja plasticidad | E14: =IF(D14="Arcilla de baja plasticidad",'FACTOR M POR SUELO'!P8,IF(D14="Limo arenoso de baja plasticidad",'FACTOR M POR SUELO'!P19,IF(D14="Arena limosa no plástica",'FACTOR M POR SUELO'!P30))) -> 0.73333333
B15: Estado de material | C15: Factor (e) | D15: En banco | E15: =IF(D15="Suelto","1.00",IF(D15="En Banco","0.85",IF(D15="Compactado","Fh"))) -> 0.85
B16: Factor de llenado | C16: Factor (c) | D16: Arcilla | E16: =IF(D16="Arena y Limos","0.95",IF(D16="Arcilla","0.85")) -> 0.85
B17: Maniobra y alcance | C17: Factor (g) | D17: 45° | E17: =IF(D17="90°","1.00",IF(D17="45°","1.30",IF(D17="180°","0.75"))) -> 1.30
B18: Pendiente | C18: Factor (p) | D18: 0 a -10 | E18: =IF(D18="-10 a -20","1.25",IF(D18="0 a -10","1.10",IF(D18="0","1.00",IF(D18="0 a +10","0.90",IF(D18="+10 a +20","0.75"))))) -> 1.10
B19: Condiciones del terreno | C19: Factor (r) | D19: Máquinas con orugas | E19: =IF(D19="Máquinas con orugas","1.00",IF(D19="Plano y firme","0.98",IF(D19="Firme - mal conservado","0.95",IF(D19="Arena y grava suelta","0.90",IF(D19="Sin conservar y lodoso","0.83"))))) -> 1.00
B20: Eventualidades | C20: Factor (l) | D20: - | E20: ='FACTORES '!G80 -> 0.85
B21: Uso anual | C21: Factor (u) | D21: - | E21: 0.85
D22: E F I C I E N C I A | E22: =E11*E12*E13*E14*E15*E16*E17*E18*E19*E20*E21 -> 0.4014189
B25: LIMO ARENOSO DE BAJA PLASTICIDAD
B26: Descripción | D26: Calificación | E26: Valor
B27: Eficiencia en tiempo | C27: Factor (i) | D27: Bueno | E27: =IF(D27="Utópico","1",IF(D27="Bueno ","0.83",IF(D27="Medio","0.67",IF(D27="Pobre","0.50")))) -> 0.83
B28: Operación | C28: Factor (o) | D28: Excelente | E28: =IF(D28="Excelente","0.95",IF(D28="Buena","0.85",IF(D28="Regular ","0.75",IF(D28="Mala","0.65")))) -> 0.95
B29: Administración | C29: Factor (a) | D29: Excelente | E29: =IF(D29="Excelente","0.93",IF(D29="Bueno","0.85",IF(D29="Regular - Bueno","0.75",IF(D29="Malo - Aceptable","0.65")))) -> 0.93
B30: Tipo de material | C30: Factor (m) | D30: Limo arenoso de baja plasticidad | E30: =IF(D30="Arcilla de baja plasticidad",'FACTOR M POR SUELO'!P8,IF(D30="Limo arenoso de baja plasticidad",'FACTOR M POR SUELO'!P19,IF(D30="Arena limosa no plástica",'FACTOR M POR SUELO'!P30))) -> 0.71666667
B31: Estado de material | C31: Factor (e) | D31: En banco | E31: =IF(D31="Suelto","1.00",IF(D31="En Banco","0.89",IF(D31="Compactado","Fh"))) -> 0.89
B32: Factor de llenado | C32: Factor (c) | D32: Arena y Limos | E32: =IF(D32="Arena y Limos","0.95",IF(D32="Arcilla","0.85")) -> 0.95
B33: Maniobra y alcance | C33: Factor (g) | D33: 45° | E33: =IF(D33="90°","1.00",IF(D33="45°","1.30",IF(D33="180°","0.75"))) -> 1.30
B34: Pendiente | C34: Factor (p) | D34: 0 a -10 | E34: =IF(D34="-10 a -20","1.25",IF(D34="0 a -10","1.10",IF(D34="0","1.00",IF(D34="0 a +10","0.90",IF(D34="+10 a +20","0.75"))))) -> 1.10
B35: Condiciones del terreno | C35: Factor (r) | D35: Máquinas con orugas | E35: =IF(D35="Máquinas con orugas","1.00",IF(D35="Plano y firme","0.98",IF(D35="Firme - mal conservado","0.95",IF(D35="Arena y grava suelta","0.90",IF(D35="Sin conservar y lodoso","0.83"))))) -> 1.00
B36: Eventualidades | C36: Factor (l) | D36: - | E36: 0.85
B37: Uso anual | C37: Factor (u) | D37: - | E37: 0.85
D38: E F I C I E N C I A | E38: =E27*E28*E29*E30*E31*E32*E33*E34*E35*E36*E37 -> 0.45908104
B41: ARENA LIMOSA NO PLÁSTICA
B42: Descripción | D42: Calificación | E42: Valor
B43: Eficiencia en tiempo | C43: Factor (i) | D43: Bueno | E43: =IF(D43="Utópico","1",IF(D43="Bueno ","0.83",IF(D43="Medio","0.67",IF(D43="Pobre","0.50")))) -> 0.83
B44: Operación | C44: Factor (o) | D44: Excelente | E44: =IF(D44="Excelente","0.95",IF(D44="Buena","0.85",IF(D44="Regular ","0.75",IF(D44="Mala","0.65")))) -> 0.95
B45: Administración | C45: Factor (a) | D45: Excelente | E45: =IF(D45="Excelente","0.93",IF(D45="Bueno","0.85",IF(D45="Regular - Bueno","0.75",IF(D45="Malo - Aceptable","0.65")))) -> 0.93
B46: Tipo de material | C46: Factor (m) | D46: Arena limosa no plástica | E46: =IF(D46="Arcilla de baja plasticidad",'FACTOR M POR SUELO'!P8,IF(D46="Limo arenoso de baja plasticidad",'FACTOR M POR SUELO'!P19,IF(D46="Arena limosa no plástica",'FACTOR M POR SUELO'!P30))) -> 0.71666667
B47: Estado de material | C47: Factor (e) | D47: En banco | E47: =IF(D47="Suelto","1.00",IF(D47="En Banco","0.89",IF(D47="Compactado","Fh"))) -> 0.89
B48: Factor de llenado | C48: Factor (c) | D48: Arena y Limos | E48: =IF(D48="Arena y Limos","0.95",IF(D48="Arcilla","0.85")) -> 0.95
B49: Maniobra y alcance | C49: Factor (g) | D49: 45° | E49: =IF(D49="90°","1.00",IF(D49="45°","1.30",IF(D49="180°","0.75"))) -> 1.30
...
